BEGIN:VCALENDAR
VERSION:2.0
PRODID: Ultiorganizer


BEGIN:VEVENT
SUMMARY:Himmelstürmer-Flying Igels
DESCRIPTION:4. Liga Süd-West Mixed, Indoor: RR 5-8
LOCATION: Spielort 1 1
DTSTART;TZID=Europe/Berlin:20260208T090000
DURATION: P50M
GEO:0.0000000000000;0.0000000000000
END:VEVENT

BEGIN:VEVENT
SUMMARY:Disconnection 4-Air Support
DESCRIPTION:4. Liga Süd-West Mixed, Indoor: RR 5-8
LOCATION: Spielort 1 1
DTSTART;TZID=Europe/Berlin:20260208T095000
DURATION: P50M
GEO:0.0000000000000;0.0000000000000
END:VEVENT

BEGIN:VEVENT
SUMMARY:Air Support-Himmelstürmer
DESCRIPTION:4. Liga Süd-West Mixed, Indoor: RR 5-8
LOCATION: Spielort 1 1
DTSTART;TZID=Europe/Berlin:20260208T122000
DURATION: P50M
GEO:0.0000000000000;0.0000000000000
END:VEVENT

BEGIN:VEVENT
SUMMARY:Disconnection 4-Flying Igels
DESCRIPTION:4. Liga Süd-West Mixed, Indoor: RR 5-8
LOCATION: Spielort 1 1
DTSTART;TZID=Europe/Berlin:20260208T131000
DURATION: P50M
GEO:0.0000000000000;0.0000000000000
END:VEVENT

END:VCALENDAR
