BEGIN:VCALENDAR
VERSION:2.0
PRODID: Ultiorganizer


BEGIN:VEVENT
SUMMARY:Caracals Carambas-Frizzly Bears Bären
DESCRIPTION:U17 Quali West: U17
LOCATION: Münster 1
DTSTART;TZID=Europe/Berlin:20260117T093000
DURATION: P30M
GEO:0.0000000000000;0.0000000000000
END:VEVENT

BEGIN:VEVENT
SUMMARY:Frizzly Bears Frizzlies-Nullacht! Ultimate a.K.
DESCRIPTION:U17 Quali West: U17
LOCATION: Münster 1
DTSTART;TZID=Europe/Berlin:20260117T100000
DURATION: P30M
GEO:0.0000000000000;0.0000000000000
END:VEVENT

BEGIN:VEVENT
SUMMARY:Caracals Carambas-Frizzly Bears Frizzlies
DESCRIPTION:U17 Quali West: U17
LOCATION: Münster 1
DTSTART;TZID=Europe/Berlin:20260117T103000
DURATION: P30M
GEO:0.0000000000000;0.0000000000000
END:VEVENT

BEGIN:VEVENT
SUMMARY:Frizzly Bears Bären-Nullacht! Ultimate a.K.
DESCRIPTION:U17 Quali West: U17
LOCATION: Münster 1
DTSTART;TZID=Europe/Berlin:20260117T110000
DURATION: P30M
GEO:0.0000000000000;0.0000000000000
END:VEVENT

BEGIN:VEVENT
SUMMARY:Nullacht! Ultimate a.K.-Caracals Carambas
DESCRIPTION:U17 Quali West: U17
LOCATION: Münster 1
DTSTART;TZID=Europe/Berlin:20260117T113000
DURATION: P30M
GEO:0.0000000000000;0.0000000000000
END:VEVENT

BEGIN:VEVENT
SUMMARY:Frizzly Bears Frizzlies-Frizzly Bears Bären
DESCRIPTION:U17 Quali West: U17
LOCATION: Münster 1
DTSTART;TZID=Europe/Berlin:20260117T120000
DURATION: P30M
GEO:0.0000000000000;0.0000000000000
END:VEVENT

END:VCALENDAR
