BEGIN:VCALENDAR
VERSION:2.0
PRODID: Ultiorganizer


BEGIN:VEVENT
SUMMARY:DAFKS Fuldimix-Colorado 2
DESCRIPTION:5. Liga Süd-West Mixed, Indoor: Pool A
LOCATION: Fulda 1
DTSTART;TZID=Europe/Berlin:20260207T090000
DURATION: P45M
GEO:0.0000000000000;0.0000000000000
END:VEVENT

BEGIN:VEVENT
SUMMARY:Maultaschen 3-Colorado 3
DESCRIPTION:5. Liga Süd-West Mixed, Indoor: Pool A
LOCATION: Fulda 1
DTSTART;TZID=Europe/Berlin:20260207T094500
DURATION: P45M
GEO:0.0000000000000;0.0000000000000
END:VEVENT

BEGIN:VEVENT
SUMMARY:Hässliche Erdferkel 3-Hässliche Erdferkel 2
DESCRIPTION:5. Liga Süd-West Mixed, Indoor: Pool A
LOCATION: Fulda 1
DTSTART;TZID=Europe/Berlin:20260207T103000
DURATION: P45M
GEO:0.0000000000000;0.0000000000000
END:VEVENT

BEGIN:VEVENT
SUMMARY:Colorado 2-Heidees
DESCRIPTION:5. Liga Süd-West Mixed, Indoor: Pool A
LOCATION: Fulda 1
DTSTART;TZID=Europe/Berlin:20260207T111500
DURATION: P45M
GEO:0.0000000000000;0.0000000000000
END:VEVENT

BEGIN:VEVENT
SUMMARY:DAFKS Fuldimix-Maultaschen 3
DESCRIPTION:5. Liga Süd-West Mixed, Indoor: Pool A
LOCATION: Fulda 1
DTSTART;TZID=Europe/Berlin:20260207T120000
DURATION: P45M
GEO:0.0000000000000;0.0000000000000
END:VEVENT

BEGIN:VEVENT
SUMMARY:Colorado 3-Hässliche Erdferkel 3
DESCRIPTION:5. Liga Süd-West Mixed, Indoor: Pool A
LOCATION: Fulda 1
DTSTART;TZID=Europe/Berlin:20260207T124500
DURATION: P45M
GEO:0.0000000000000;0.0000000000000
END:VEVENT

BEGIN:VEVENT
SUMMARY:Hässliche Erdferkel 2-Heidees
DESCRIPTION:5. Liga Süd-West Mixed, Indoor: Pool A
LOCATION: Fulda 1
DTSTART;TZID=Europe/Berlin:20260207T133000
DURATION: P45M
GEO:0.0000000000000;0.0000000000000
END:VEVENT

BEGIN:VEVENT
SUMMARY:Colorado 2-Maultaschen 3
DESCRIPTION:5. Liga Süd-West Mixed, Indoor: Pool A
LOCATION: Fulda 1
DTSTART;TZID=Europe/Berlin:20260207T141500
DURATION: P45M
GEO:0.0000000000000;0.0000000000000
END:VEVENT

BEGIN:VEVENT
SUMMARY:Hässliche Erdferkel 3-DAFKS Fuldimix
DESCRIPTION:5. Liga Süd-West Mixed, Indoor: Pool A
LOCATION: Fulda 1
DTSTART;TZID=Europe/Berlin:20260207T150000
DURATION: P45M
GEO:0.0000000000000;0.0000000000000
END:VEVENT

BEGIN:VEVENT
SUMMARY:Heidees-Colorado 3
DESCRIPTION:5. Liga Süd-West Mixed, Indoor: Pool A
LOCATION: Fulda 1
DTSTART;TZID=Europe/Berlin:20260207T154500
DURATION: P45M
GEO:0.0000000000000;0.0000000000000
END:VEVENT

BEGIN:VEVENT
SUMMARY:Hässliche Erdferkel 2-Colorado 2
DESCRIPTION:5. Liga Süd-West Mixed, Indoor: Pool A
LOCATION: Fulda 1
DTSTART;TZID=Europe/Berlin:20260207T163000
DURATION: P45M
GEO:0.0000000000000;0.0000000000000
END:VEVENT

BEGIN:VEVENT
SUMMARY:Maultaschen 3-Hässliche Erdferkel 3
DESCRIPTION:5. Liga Süd-West Mixed, Indoor: Pool A
LOCATION: Fulda 1
DTSTART;TZID=Europe/Berlin:20260207T171500
DURATION: P45M
GEO:0.0000000000000;0.0000000000000
END:VEVENT

BEGIN:VEVENT
SUMMARY:Heidees-DAFKS Fuldimix
DESCRIPTION:5. Liga Süd-West Mixed, Indoor: Pool A
LOCATION: Fulda 1
DTSTART;TZID=Europe/Berlin:20260207T180000
DURATION: P45M
GEO:0.0000000000000;0.0000000000000
END:VEVENT

BEGIN:VEVENT
SUMMARY:Colorado 3-Hässliche Erdferkel 2
DESCRIPTION:5. Liga Süd-West Mixed, Indoor: Pool A
LOCATION: Fulda 1
DTSTART;TZID=Europe/Berlin:20260207T184500
DURATION: P45M
GEO:0.0000000000000;0.0000000000000
END:VEVENT

BEGIN:VEVENT
SUMMARY:Heidees-Hässliche Erdferkel 3
DESCRIPTION:5. Liga Süd-West Mixed, Indoor: Pool A
LOCATION: Fulda 2
DTSTART;TZID=Europe/Berlin:20260208T100000
DURATION: P45M
GEO:0.0000000000000;0.0000000000000
END:VEVENT

BEGIN:VEVENT
SUMMARY:Hässliche Erdferkel 2-Maultaschen 3
DESCRIPTION:5. Liga Süd-West Mixed, Indoor: Pool A
LOCATION: Fulda 2
DTSTART;TZID=Europe/Berlin:20260208T104500
DURATION: P45M
GEO:0.0000000000000;0.0000000000000
END:VEVENT

BEGIN:VEVENT
SUMMARY:Colorado 3-DAFKS Fuldimix
DESCRIPTION:5. Liga Süd-West Mixed, Indoor: Pool A
LOCATION: Fulda 2
DTSTART;TZID=Europe/Berlin:20260208T113000
DURATION: P45M
GEO:0.0000000000000;0.0000000000000
END:VEVENT

BEGIN:VEVENT
SUMMARY:Hässliche Erdferkel 3-Colorado 2
DESCRIPTION:5. Liga Süd-West Mixed, Indoor: Pool A
LOCATION: Fulda 2
DTSTART;TZID=Europe/Berlin:20260208T121500
DURATION: P45M
GEO:0.0000000000000;0.0000000000000
END:VEVENT

BEGIN:VEVENT
SUMMARY:Maultaschen 3-Heidees
DESCRIPTION:5. Liga Süd-West Mixed, Indoor: Pool A
LOCATION: Fulda 2
DTSTART;TZID=Europe/Berlin:20260208T130000
DURATION: P45M
GEO:0.0000000000000;0.0000000000000
END:VEVENT

BEGIN:VEVENT
SUMMARY:DAFKS Fuldimix-Hässliche Erdferkel 2
DESCRIPTION:5. Liga Süd-West Mixed, Indoor: Pool A
LOCATION: Fulda 2
DTSTART;TZID=Europe/Berlin:20260208T134500
DURATION: P45M
GEO:0.0000000000000;0.0000000000000
END:VEVENT

BEGIN:VEVENT
SUMMARY:Colorado 2-Colorado 3
DESCRIPTION:5. Liga Süd-West Mixed, Indoor: Pool A
LOCATION: Fulda 2
DTSTART;TZID=Europe/Berlin:20260208T143000
DURATION: P45M
GEO:0.0000000000000;0.0000000000000
END:VEVENT

END:VCALENDAR
