BEGIN:VCALENDAR
VERSION:2.0
PRODID: Ultiorganizer


BEGIN:VEVENT
SUMMARY:Rotor Ultimate Berlin-Stoneheads Chemnitz
DESCRIPTION:Mixed 4. Liga NO: Pool A
LOCATION: Chemnitz 1
DTSTART;TZID=Europe/Berlin:20181201T100000
DURATION: P50M
GEO:50.8278465270996;12.9213695526123
END:VEVENT

BEGIN:VEVENT
SUMMARY:Air Pussies-Pizza Volante
DESCRIPTION:Mixed 4. Liga NO: Pool A
LOCATION: Chemnitz 1
DTSTART;TZID=Europe/Berlin:20181201T105000
DURATION: P50M
GEO:50.8278465270996;12.9213695526123
END:VEVENT

BEGIN:VEVENT
SUMMARY:Hallunken 2-Saxy Divers 2
DESCRIPTION:Mixed 4. Liga NO: Pool A
LOCATION: Chemnitz 1
DTSTART;TZID=Europe/Berlin:20181201T114000
DURATION: P50M
GEO:50.8278465270996;12.9213695526123
END:VEVENT

BEGIN:VEVENT
SUMMARY:Stoneheads Chemnitz-Air Pussies
DESCRIPTION:Mixed 4. Liga NO: Pool A
LOCATION: Chemnitz 1
DTSTART;TZID=Europe/Berlin:20181201T123000
DURATION: P50M
GEO:50.8278465270996;12.9213695526123
END:VEVENT

BEGIN:VEVENT
SUMMARY:Rotor Ultimate Berlin-Saxy Divers 2
DESCRIPTION:Mixed 4. Liga NO: Pool A
LOCATION: Chemnitz 1
DTSTART;TZID=Europe/Berlin:20181201T132000
DURATION: P50M
GEO:50.8278465270996;12.9213695526123
END:VEVENT

BEGIN:VEVENT
SUMMARY:Pizza Volante-Hallunken 2
DESCRIPTION:Mixed 4. Liga NO: Pool A
LOCATION: Chemnitz 1
DTSTART;TZID=Europe/Berlin:20181201T141000
DURATION: P50M
GEO:50.8278465270996;12.9213695526123
END:VEVENT

BEGIN:VEVENT
SUMMARY:Saxy Divers 2-Stoneheads Chemnitz
DESCRIPTION:Mixed 4. Liga NO: Pool A
LOCATION: Chemnitz 1
DTSTART;TZID=Europe/Berlin:20181201T150000
DURATION: P50M
GEO:50.8278465270996;12.9213695526123
END:VEVENT

BEGIN:VEVENT
SUMMARY:Pizza Volante-Rotor Ultimate Berlin
DESCRIPTION:Mixed 4. Liga NO: Pool A
LOCATION: Chemnitz 1
DTSTART;TZID=Europe/Berlin:20181201T155000
DURATION: P50M
GEO:50.8278465270996;12.9213695526123
END:VEVENT

BEGIN:VEVENT
SUMMARY:Air Pussies-Hallunken 2
DESCRIPTION:Mixed 4. Liga NO: Pool A
LOCATION: Chemnitz 1
DTSTART;TZID=Europe/Berlin:20181201T164000
DURATION: P50M
GEO:50.8278465270996;12.9213695526123
END:VEVENT

BEGIN:VEVENT
SUMMARY:Pizza Volante-Saxy Divers 2
DESCRIPTION:Mixed 4. Liga NO: Pool A
LOCATION: Chemnitz 1
DTSTART;TZID=Europe/Berlin:20181202T090000
DURATION: P50M
GEO:50.8278465270996;12.9213695526123
END:VEVENT

BEGIN:VEVENT
SUMMARY:Rotor Ultimate Berlin-Air Pussies
DESCRIPTION:Mixed 4. Liga NO: Pool A
LOCATION: Chemnitz 1
DTSTART;TZID=Europe/Berlin:20181202T095000
DURATION: P50M
GEO:50.8278465270996;12.9213695526123
END:VEVENT

BEGIN:VEVENT
SUMMARY:Hallunken 2-Stoneheads Chemnitz
DESCRIPTION:Mixed 4. Liga NO: Pool A
LOCATION: Chemnitz 1
DTSTART;TZID=Europe/Berlin:20181202T104000
DURATION: P50M
GEO:50.8278465270996;12.9213695526123
END:VEVENT

BEGIN:VEVENT
SUMMARY:Saxy Divers 2-Air Pussies
DESCRIPTION:Mixed 4. Liga NO: Pool A
LOCATION: Chemnitz 1
DTSTART;TZID=Europe/Berlin:20181202T113000
DURATION: P50M
GEO:50.8278465270996;12.9213695526123
END:VEVENT

BEGIN:VEVENT
SUMMARY:Hallunken 2-Rotor Ultimate Berlin
DESCRIPTION:Mixed 4. Liga NO: Pool A
LOCATION: Chemnitz 1
DTSTART;TZID=Europe/Berlin:20181202T122000
DURATION: P50M
GEO:50.8278465270996;12.9213695526123
END:VEVENT

BEGIN:VEVENT
SUMMARY:Stoneheads Chemnitz-Pizza Volante
DESCRIPTION:Mixed 4. Liga NO: Pool A
LOCATION: Chemnitz 1
DTSTART;TZID=Europe/Berlin:20181202T131000
DURATION: P50M
GEO:50.8278465270996;12.9213695526123
END:VEVENT

BEGIN:VEVENT
SUMMARY:Air Pussies-Stoneheads Chemnitz
DESCRIPTION:Mixed 4. Liga NO: Finale 2-3
LOCATION: Chemnitz 1
DTSTART;TZID=Europe/Berlin:20181202T140000
DURATION: P50M
GEO:50.8278465270996;12.9213695526123
END:VEVENT

END:VCALENDAR
