BEGIN:VCALENDAR
VERSION:2.0
PRODID: Ultiorganizer


BEGIN:VEVENT
SUMMARY:HS-Ultimate-Nullacht! Ultimate Münster
DESCRIPTION:Mixed 3. Liga Beach: Round Robin
LOCATION: Greifswald 3
DTSTART;TZID=Europe/Berlin:20191012T120000
DURATION: P60M
GEO:54.0865478515625;13.3923416137695
END:VEVENT

BEGIN:VEVENT
SUMMARY:Bonnsai-Parkscheibe
DESCRIPTION:Mixed 3. Liga Beach: Round Robin
LOCATION: Greifswald 4
DTSTART;TZID=Europe/Berlin:20191012T120000
DURATION: P60M
GEO:54.0865478515625;13.3923416137695
END:VEVENT

BEGIN:VEVENT
SUMMARY:Parkscheibe-HS-Ultimate
DESCRIPTION:Mixed 3. Liga Beach: Round Robin
LOCATION: Greifswald 1
DTSTART;TZID=Europe/Berlin:20191012T140000
DURATION: P60M
GEO:54.0865478515625;13.3923416137695
END:VEVENT

BEGIN:VEVENT
SUMMARY:Nullacht! Ultimate Münster-Bonnsai
DESCRIPTION:Mixed 3. Liga Beach: Round Robin
LOCATION: Greifswald 2
DTSTART;TZID=Europe/Berlin:20191012T140000
DURATION: P60M
GEO:54.0865478515625;13.3923416137695
END:VEVENT

BEGIN:VEVENT
SUMMARY:Bonnsai-HS-Ultimate
DESCRIPTION:Mixed 3. Liga Beach: Round Robin
LOCATION: Greifswald 3
DTSTART;TZID=Europe/Berlin:20191012T160000
DURATION: P60M
GEO:54.0865478515625;13.3923416137695
END:VEVENT

BEGIN:VEVENT
SUMMARY:Nullacht! Ultimate Münster-Parkscheibe
DESCRIPTION:Mixed 3. Liga Beach: Round Robin
LOCATION: Greifswald 4
DTSTART;TZID=Europe/Berlin:20191012T160000
DURATION: P60M
GEO:54.0865478515625;13.3923416137695
END:VEVENT

BEGIN:VEVENT
SUMMARY:Parkscheibe-HS-Ultimate
DESCRIPTION:Mixed 3. Liga Beach: Finale
LOCATION: Greifswald 3
DTSTART;TZID=Europe/Berlin:20191013T090000
DURATION: P60M
GEO:54.0865478515625;13.3923416137695
END:VEVENT

BEGIN:VEVENT
SUMMARY:Bonnsai-Nullacht! Ultimate Münster
DESCRIPTION:Mixed 3. Liga Beach: Finale
LOCATION: Greifswald 4
DTSTART;TZID=Europe/Berlin:20191013T090000
DURATION: P60M
GEO:54.0865478515625;13.3923416137695
END:VEVENT

BEGIN:VEVENT
SUMMARY:Parkscheibe-Nullacht! Ultimate Münster
DESCRIPTION:Mixed 3. Liga Beach: Finale Finals
LOCATION: Greifswald 1
DTSTART;TZID=Europe/Berlin:20191013T110000
DURATION: P60M
GEO:54.0865478515625;13.3923416137695
END:VEVENT

BEGIN:VEVENT
SUMMARY:HS-Ultimate-Bonnsai
DESCRIPTION:Mixed 3. Liga Beach: Finale Finals
LOCATION: Greifswald 2
DTSTART;TZID=Europe/Berlin:20191013T110000
DURATION: P60M
GEO:54.0865478515625;13.3923416137695
END:VEVENT

END:VCALENDAR
