BEGIN:VCALENDAR
VERSION:2.0
PRODID: Ultiorganizer


BEGIN:VEVENT
SUMMARY:Spätmix-Old Man Line
DESCRIPTION:WMUCC Quali Mixed Masters: Pool A
LOCATION: Köln 1
DTSTART;TZID=Europe/Berlin:20210925T110000
DURATION: P100M
GEO:50.9414024353027;6.9580740928650
END:VEVENT

BEGIN:VEVENT
SUMMARY:SugarMix-S5MmiXed
DESCRIPTION:WMUCC Quali Mixed Masters: Pool A
LOCATION: Köln 2
DTSTART;TZID=Europe/Berlin:20210925T110000
DURATION: P100M
GEO:50.9414024353027;6.9580740928650
END:VEVENT

BEGIN:VEVENT
SUMMARY:Old Man Line-SugarMix
DESCRIPTION:WMUCC Quali Mixed Masters: Pool A
LOCATION: Köln 1
DTSTART;TZID=Europe/Berlin:20210925T133000
DURATION: P100M
GEO:50.9414024353027;6.9580740928650
END:VEVENT

BEGIN:VEVENT
SUMMARY:Spätmix-Heidees
DESCRIPTION:WMUCC Quali Mixed Masters: Pool A
LOCATION: Köln 2
DTSTART;TZID=Europe/Berlin:20210925T133000
DURATION: P100M
GEO:50.9414024353027;6.9580740928650
END:VEVENT

BEGIN:VEVENT
SUMMARY:S5MmiXed-Heidees
DESCRIPTION:WMUCC Quali Mixed Masters: Pool A
LOCATION: Köln 1
DTSTART;TZID=Europe/Berlin:20210925T160000
DURATION: P100M
GEO:50.9414024353027;6.9580740928650
END:VEVENT

BEGIN:VEVENT
SUMMARY:SugarMix-Spätmix
DESCRIPTION:WMUCC Quali Mixed Masters: Pool A
LOCATION: Köln 2
DTSTART;TZID=Europe/Berlin:20210925T160000
DURATION: P100M
GEO:50.9414024353027;6.9580740928650
END:VEVENT

BEGIN:VEVENT
SUMMARY:Heidees-Old Man Line
DESCRIPTION:WMUCC Quali Mixed Masters: Pool A
LOCATION: Köln 1
DTSTART;TZID=Europe/Berlin:20210926T100000
DURATION: P100M
GEO:50.9414024353027;6.9580740928650
END:VEVENT

BEGIN:VEVENT
SUMMARY:S5MmiXed-Spätmix
DESCRIPTION:WMUCC Quali Mixed Masters: Pool A
LOCATION: Köln 2
DTSTART;TZID=Europe/Berlin:20210926T100000
DURATION: P100M
GEO:50.9414024353027;6.9580740928650
END:VEVENT

BEGIN:VEVENT
SUMMARY:Old Man Line-S5MmiXed
DESCRIPTION:WMUCC Quali Mixed Masters: Pool A
LOCATION: Köln 1
DTSTART;TZID=Europe/Berlin:20210926T123000
DURATION: P100M
GEO:50.9414024353027;6.9580740928650
END:VEVENT

BEGIN:VEVENT
SUMMARY:Heidees-SugarMix
DESCRIPTION:WMUCC Quali Mixed Masters: Pool A
LOCATION: Köln 2
DTSTART;TZID=Europe/Berlin:20210926T123000
DURATION: P100M
GEO:50.9414024353027;6.9580740928650
END:VEVENT

END:VCALENDAR
