BEGIN:VCALENDAR
VERSION:2.0
PRODID: Ultiorganizer


BEGIN:VEVENT
SUMMARY:DJ Dahlem-Disckick
DESCRIPTION:U17 Quali NO: Pool U17
LOCATION: Potsdam 1
DTSTART;TZID=Europe/Berlin:20220521T100000
DURATION: P45M
GEO:52.3915710449219;13.0666170120239
END:VEVENT

BEGIN:VEVENT
SUMMARY:JugEndzonis-Pizza Volante 2
DESCRIPTION:U17 Quali NO: Pool U17
LOCATION: Potsdam 1
DTSTART;TZID=Europe/Berlin:20220521T104500
DURATION: P45M
GEO:52.3915710449219;13.0666170120239
END:VEVENT

BEGIN:VEVENT
SUMMARY:Pizza Volante 1-DJ Dahlem
DESCRIPTION:U17 Quali NO: Pool U17
LOCATION: Potsdam 1
DTSTART;TZID=Europe/Berlin:20220521T113000
DURATION: P45M
GEO:52.3915710449219;13.0666170120239
END:VEVENT

BEGIN:VEVENT
SUMMARY:Disckick-JugEndzonis
DESCRIPTION:U17 Quali NO: Pool U17
LOCATION: Potsdam 1
DTSTART;TZID=Europe/Berlin:20220521T121500
DURATION: P45M
GEO:52.3915710449219;13.0666170120239
END:VEVENT

BEGIN:VEVENT
SUMMARY:Pizza Volante 2-Pizza Volante 1
DESCRIPTION:U17 Quali NO: Pool U17
LOCATION: Potsdam 1
DTSTART;TZID=Europe/Berlin:20220521T130000
DURATION: P45M
GEO:52.3915710449219;13.0666170120239
END:VEVENT

BEGIN:VEVENT
SUMMARY:DJ Dahlem-JugEndzonis
DESCRIPTION:U17 Quali NO: Pool U17
LOCATION: Potsdam 1
DTSTART;TZID=Europe/Berlin:20220521T134500
DURATION: P45M
GEO:52.3915710449219;13.0666170120239
END:VEVENT

BEGIN:VEVENT
SUMMARY:Disckick-Pizza Volante 2
DESCRIPTION:U17 Quali NO: Pool U17
LOCATION: Potsdam 1
DTSTART;TZID=Europe/Berlin:20220521T143000
DURATION: P45M
GEO:52.3915710449219;13.0666170120239
END:VEVENT

BEGIN:VEVENT
SUMMARY:JugEndzonis-Pizza Volante 1
DESCRIPTION:U17 Quali NO: Pool U17
LOCATION: Potsdam 1
DTSTART;TZID=Europe/Berlin:20220521T151500
DURATION: P45M
GEO:52.3915710449219;13.0666170120239
END:VEVENT

BEGIN:VEVENT
SUMMARY:Pizza Volante 2-DJ Dahlem
DESCRIPTION:U17 Quali NO: Pool U17
LOCATION: Potsdam 1
DTSTART;TZID=Europe/Berlin:20220521T160000
DURATION: P45M
GEO:52.3915710449219;13.0666170120239
END:VEVENT

BEGIN:VEVENT
SUMMARY:Pizza Volante 1-Disckick
DESCRIPTION:U17 Quali NO: Pool U17
LOCATION: Potsdam 1
DTSTART;TZID=Europe/Berlin:20220521T164500
DURATION: P45M
GEO:52.3915710449219;13.0666170120239
END:VEVENT

END:VCALENDAR
