BEGIN:VCALENDAR
VERSION:2.0
PRODID: Ultiorganizer


BEGIN:VEVENT
SUMMARY:Parkscheibe-Air Pussies
DESCRIPTION:Mixed 2. Liga Beach: Pool A
LOCATION: Rostock 1
DTSTART;TZID=Europe/Berlin:20230506T100000
DURATION: P60M
GEO:54.0924415588379;12.0991468429565
END:VEVENT

BEGIN:VEVENT
SUMMARY:Hucks Ultimate Club Berlin-Windhosen
DESCRIPTION:Mixed 2. Liga Beach: Pool A
LOCATION: Rostock 2
DTSTART;TZID=Europe/Berlin:20230506T100000
DURATION: P60M
GEO:54.0924415588379;12.0991468429565
END:VEVENT

BEGIN:VEVENT
SUMMARY:Windhosen-Parkscheibe
DESCRIPTION:Mixed 2. Liga Beach: Pool A
LOCATION: Rostock 1
DTSTART;TZID=Europe/Berlin:20230506T130000
DURATION: P60M
GEO:54.0924415588379;12.0991468429565
END:VEVENT

BEGIN:VEVENT
SUMMARY:Air Pussies-Hucks Ultimate Club Berlin
DESCRIPTION:Mixed 2. Liga Beach: Pool A
LOCATION: Rostock 2
DTSTART;TZID=Europe/Berlin:20230506T130000
DURATION: P60M
GEO:54.0924415588379;12.0991468429565
END:VEVENT

BEGIN:VEVENT
SUMMARY:Parkscheibe-Hucks Ultimate Club Berlin
DESCRIPTION:Mixed 2. Liga Beach: Pool A
LOCATION: Rostock 1
DTSTART;TZID=Europe/Berlin:20230506T160000
DURATION: P60M
GEO:54.0924415588379;12.0991468429565
END:VEVENT

BEGIN:VEVENT
SUMMARY:Windhosen-Air Pussies
DESCRIPTION:Mixed 2. Liga Beach: Pool A
LOCATION: Rostock 2
DTSTART;TZID=Europe/Berlin:20230506T160000
DURATION: P60M
GEO:54.0924415588379;12.0991468429565
END:VEVENT

BEGIN:VEVENT
SUMMARY:Funatics-TiB Mixed Masters
DESCRIPTION:Mixed 2. Liga Beach: Pool B
LOCATION: Rostock 3
DTSTART;TZID=Europe/Berlin:20230506T100000
DURATION: P60M
GEO:54.0924415588379;12.0991468429565
END:VEVENT

BEGIN:VEVENT
SUMMARY:Goldfingers-Griffins Lehre
DESCRIPTION:Mixed 2. Liga Beach: Pool B
LOCATION: Rostock 4
DTSTART;TZID=Europe/Berlin:20230506T100000
DURATION: P60M
GEO:54.0924415588379;12.0991468429565
END:VEVENT

BEGIN:VEVENT
SUMMARY:Griffins Lehre-Funatics
DESCRIPTION:Mixed 2. Liga Beach: Pool B
LOCATION: Rostock 3
DTSTART;TZID=Europe/Berlin:20230506T130000
DURATION: P60M
GEO:54.0924415588379;12.0991468429565
END:VEVENT

BEGIN:VEVENT
SUMMARY:TiB Mixed Masters-Goldfingers
DESCRIPTION:Mixed 2. Liga Beach: Pool B
LOCATION: Rostock 4
DTSTART;TZID=Europe/Berlin:20230506T130000
DURATION: P60M
GEO:54.0924415588379;12.0991468429565
END:VEVENT

BEGIN:VEVENT
SUMMARY:Funatics-Goldfingers
DESCRIPTION:Mixed 2. Liga Beach: Pool B
LOCATION: Rostock 3
DTSTART;TZID=Europe/Berlin:20230506T160000
DURATION: P60M
GEO:54.0924415588379;12.0991468429565
END:VEVENT

BEGIN:VEVENT
SUMMARY:Griffins Lehre-TiB Mixed Masters
DESCRIPTION:Mixed 2. Liga Beach: Pool B
LOCATION: Rostock 4
DTSTART;TZID=Europe/Berlin:20230506T160000
DURATION: P60M
GEO:54.0924415588379;12.0991468429565
END:VEVENT

BEGIN:VEVENT
SUMMARY:Hucks Ultimate Club Berlin-Funatics
DESCRIPTION:Mixed 2. Liga Beach: Finale 1-4
LOCATION: Rostock 1
DTSTART;TZID=Europe/Berlin:20230507T110000
DURATION: P60M
GEO:54.0924415588379;12.0991468429565
END:VEVENT

BEGIN:VEVENT
SUMMARY:TiB Mixed Masters-Parkscheibe
DESCRIPTION:Mixed 2. Liga Beach: Finale 1-4
LOCATION: Rostock 2
DTSTART;TZID=Europe/Berlin:20230507T110000
DURATION: P60M
GEO:54.0924415588379;12.0991468429565
END:VEVENT

BEGIN:VEVENT
SUMMARY:Hucks Ultimate Club Berlin-TiB Mixed Masters
DESCRIPTION:Mixed 2. Liga Beach: Finale 1-4 Finals
LOCATION: Rostock 1
DTSTART;TZID=Europe/Berlin:20230507T140000
DURATION: P60M
GEO:54.0924415588379;12.0991468429565
END:VEVENT

BEGIN:VEVENT
SUMMARY:Funatics-Parkscheibe
DESCRIPTION:Mixed 2. Liga Beach: Finale 1-4 Finals
LOCATION: Rostock 2
DTSTART;TZID=Europe/Berlin:20230507T140000
DURATION: P60M
GEO:54.0924415588379;12.0991468429565
END:VEVENT

BEGIN:VEVENT
SUMMARY:Air Pussies-Goldfingers
DESCRIPTION:Mixed 2. Liga Beach: RR 5-8
LOCATION: Rostock 3
DTSTART;TZID=Europe/Berlin:20230507T110000
DURATION: P60M
GEO:54.0924415588379;12.0991468429565
END:VEVENT

BEGIN:VEVENT
SUMMARY:Griffins Lehre-Windhosen
DESCRIPTION:Mixed 2. Liga Beach: RR 5-8
LOCATION: Rostock 4
DTSTART;TZID=Europe/Berlin:20230507T110000
DURATION: P60M
GEO:54.0924415588379;12.0991468429565
END:VEVENT

BEGIN:VEVENT
SUMMARY:Air Pussies-Griffins Lehre
DESCRIPTION:Mixed 2. Liga Beach: RR 5-8
LOCATION: Rostock 3
DTSTART;TZID=Europe/Berlin:20230507T140000
DURATION: P60M
GEO:54.0924415588379;12.0991468429565
END:VEVENT

BEGIN:VEVENT
SUMMARY:Windhosen-Goldfingers
DESCRIPTION:Mixed 2. Liga Beach: RR 5-8
LOCATION: Rostock 4
DTSTART;TZID=Europe/Berlin:20230507T140000
DURATION: P60M
GEO:54.0924415588379;12.0991468429565
END:VEVENT

END:VCALENDAR
