BEGIN:VCALENDAR
VERSION:2.0
PRODID: Ultiorganizer


BEGIN:VEVENT
SUMMARY:enerGI-DAFKS Fuldimates
DESCRIPTION:Mixed 3. Liga SW: Pool A
LOCATION: Gießen 1
DTSTART;TZID=Europe/Berlin:20240629T090000
DURATION: P100M
GEO:50.5840530395508;8.6784029006958
END:VEVENT

BEGIN:VEVENT
SUMMARY:Colorado 2-Disconnection 3
DESCRIPTION:Mixed 3. Liga SW: Pool A
LOCATION: Gießen 2
DTSTART;TZID=Europe/Berlin:20240629T090000
DURATION: P100M
GEO:50.5840530395508;8.6784029006958
END:VEVENT

BEGIN:VEVENT
SUMMARY:Team Südsee-Disconnection 2
DESCRIPTION:Mixed 3. Liga SW: Pool A
LOCATION: Gießen 1
DTSTART;TZID=Europe/Berlin:20240629T104000
DURATION: P100M
GEO:50.5840530395508;8.6784029006958
END:VEVENT

BEGIN:VEVENT
SUMMARY:Feldmädchen-Flying Igels
DESCRIPTION:Mixed 3. Liga SW: Pool A
LOCATION: Gießen 2
DTSTART;TZID=Europe/Berlin:20240629T104000
DURATION: P100M
GEO:50.5840530395508;8.6784029006958
END:VEVENT

BEGIN:VEVENT
SUMMARY:Disconnection 3-enerGI
DESCRIPTION:Mixed 3. Liga SW: Pool A
LOCATION: Gießen 1
DTSTART;TZID=Europe/Berlin:20240629T122000
DURATION: P100M
GEO:50.5840530395508;8.6784029006958
END:VEVENT

BEGIN:VEVENT
SUMMARY:DAFKS Fuldimates-Colorado 2
DESCRIPTION:Mixed 3. Liga SW: Pool A
LOCATION: Gießen 2
DTSTART;TZID=Europe/Berlin:20240629T122000
DURATION: P100M
GEO:50.5840530395508;8.6784029006958
END:VEVENT

BEGIN:VEVENT
SUMMARY:Flying Igels-Team Südsee
DESCRIPTION:Mixed 3. Liga SW: Pool A
LOCATION: Gießen 1
DTSTART;TZID=Europe/Berlin:20240629T140000
DURATION: P100M
GEO:50.5840530395508;8.6784029006958
END:VEVENT

BEGIN:VEVENT
SUMMARY:Disconnection 2-Feldmädchen
DESCRIPTION:Mixed 3. Liga SW: Pool A
LOCATION: Gießen 2
DTSTART;TZID=Europe/Berlin:20240629T140000
DURATION: P100M
GEO:50.5840530395508;8.6784029006958
END:VEVENT

BEGIN:VEVENT
SUMMARY:enerGI-Colorado 2
DESCRIPTION:Mixed 3. Liga SW: Pool A
LOCATION: Gießen 1
DTSTART;TZID=Europe/Berlin:20240629T154000
DURATION: P100M
GEO:50.5840530395508;8.6784029006958
END:VEVENT

BEGIN:VEVENT
SUMMARY:DAFKS Fuldimates-Disconnection 3
DESCRIPTION:Mixed 3. Liga SW: Pool A
LOCATION: Gießen 2
DTSTART;TZID=Europe/Berlin:20240629T154000
DURATION: P100M
GEO:50.5840530395508;8.6784029006958
END:VEVENT

BEGIN:VEVENT
SUMMARY:Disconnection 2-Flying Igels
DESCRIPTION:Mixed 3. Liga SW: Pool A
LOCATION: Gießen 1
DTSTART;TZID=Europe/Berlin:20240629T172000
DURATION: P100M
GEO:50.5840530395508;8.6784029006958
END:VEVENT

BEGIN:VEVENT
SUMMARY:Team Südsee-Feldmädchen
DESCRIPTION:Mixed 3. Liga SW: Pool A
LOCATION: Gießen 2
DTSTART;TZID=Europe/Berlin:20240629T172000
DURATION: P100M
GEO:50.5840530395508;8.6784029006958
END:VEVENT

BEGIN:VEVENT
SUMMARY:Team Südsee-Disconnection 3
DESCRIPTION:Mixed 3. Liga SW: Pool A
LOCATION: Gießen 1
DTSTART;TZID=Europe/Berlin:20240630T090000
DURATION: P100M
GEO:50.5840530395508;8.6784029006958
END:VEVENT

BEGIN:VEVENT
SUMMARY:Colorado 2-Disconnection 2
DESCRIPTION:Mixed 3. Liga SW: Pool A
LOCATION: Gießen 2
DTSTART;TZID=Europe/Berlin:20240630T090000
DURATION: P100M
GEO:50.5840530395508;8.6784029006958
END:VEVENT

BEGIN:VEVENT
SUMMARY:Feldmädchen-DAFKS Fuldimates
DESCRIPTION:Mixed 3. Liga SW: Pool A
LOCATION: Gießen 1
DTSTART;TZID=Europe/Berlin:20240630T104000
DURATION: P100M
GEO:50.5840530395508;8.6784029006958
END:VEVENT

BEGIN:VEVENT
SUMMARY:enerGI-Flying Igels
DESCRIPTION:Mixed 3. Liga SW: Pool A
LOCATION: Gießen 2
DTSTART;TZID=Europe/Berlin:20240630T104000
DURATION: P100M
GEO:50.5840530395508;8.6784029006958
END:VEVENT

BEGIN:VEVENT
SUMMARY:Colorado 2-Team Südsee
DESCRIPTION:Mixed 3. Liga SW: Pool A
LOCATION: Gießen 1
DTSTART;TZID=Europe/Berlin:20240630T122000
DURATION: P100M
GEO:50.5840530395508;8.6784029006958
END:VEVENT

BEGIN:VEVENT
SUMMARY:Disconnection 3-Disconnection 2
DESCRIPTION:Mixed 3. Liga SW: Pool A
LOCATION: Gießen 2
DTSTART;TZID=Europe/Berlin:20240630T122000
DURATION: P100M
GEO:50.5840530395508;8.6784029006958
END:VEVENT

BEGIN:VEVENT
SUMMARY:Feldmädchen-enerGI
DESCRIPTION:Mixed 3. Liga SW: Pool A
LOCATION: Gießen 1
DTSTART;TZID=Europe/Berlin:20240630T140000
DURATION: P100M
GEO:50.5840530395508;8.6784029006958
END:VEVENT

BEGIN:VEVENT
SUMMARY:Flying Igels-DAFKS Fuldimates
DESCRIPTION:Mixed 3. Liga SW: Pool A
LOCATION: Gießen 2
DTSTART;TZID=Europe/Berlin:20240630T140000
DURATION: P100M
GEO:50.5840530395508;8.6784029006958
END:VEVENT

BEGIN:VEVENT
SUMMARY:Flying Igels-Colorado 2
DESCRIPTION:Mixed 3. Liga SW: Pool A
LOCATION: Fulda 1
DTSTART;TZID=Europe/Berlin:20240713T090000
DURATION: P100M
GEO:0.0000000000000;0.0000000000000
END:VEVENT

BEGIN:VEVENT
SUMMARY:Disconnection 3-Feldmädchen
DESCRIPTION:Mixed 3. Liga SW: Pool A
LOCATION: Fulda 2
DTSTART;TZID=Europe/Berlin:20240713T090000
DURATION: P100M
GEO:0.0000000000000;0.0000000000000
END:VEVENT

BEGIN:VEVENT
SUMMARY:DAFKS Fuldimates-Team Südsee
DESCRIPTION:Mixed 3. Liga SW: Pool A
LOCATION: Fulda 1
DTSTART;TZID=Europe/Berlin:20240713T104000
DURATION: P100M
GEO:0.0000000000000;0.0000000000000
END:VEVENT

BEGIN:VEVENT
SUMMARY:Disconnection 2-enerGI
DESCRIPTION:Mixed 3. Liga SW: Pool A
LOCATION: Fulda 2
DTSTART;TZID=Europe/Berlin:20240713T104000
DURATION: P100M
GEO:0.0000000000000;0.0000000000000
END:VEVENT

BEGIN:VEVENT
SUMMARY:Disconnection 3-Flying Igels
DESCRIPTION:Mixed 3. Liga SW: Pool A
LOCATION: Fulda 1
DTSTART;TZID=Europe/Berlin:20240713T122000
DURATION: P100M
GEO:0.0000000000000;0.0000000000000
END:VEVENT

BEGIN:VEVENT
SUMMARY:Feldmädchen-Colorado 2
DESCRIPTION:Mixed 3. Liga SW: Pool A
LOCATION: Fulda 2
DTSTART;TZID=Europe/Berlin:20240713T122000
DURATION: P100M
GEO:0.0000000000000;0.0000000000000
END:VEVENT

BEGIN:VEVENT
SUMMARY:Disconnection 2-DAFKS Fuldimates
DESCRIPTION:Mixed 3. Liga SW: Pool A
LOCATION: Fulda 1
DTSTART;TZID=Europe/Berlin:20240713T140000
DURATION: P100M
GEO:0.0000000000000;0.0000000000000
END:VEVENT

BEGIN:VEVENT
SUMMARY:enerGI-Team Südsee
DESCRIPTION:Mixed 3. Liga SW: Pool A
LOCATION: Fulda 2
DTSTART;TZID=Europe/Berlin:20240713T140000
DURATION: P100M
GEO:0.0000000000000;0.0000000000000
END:VEVENT

BEGIN:VEVENT
SUMMARY:DAFKS Fuldimates-Flying Igels
DESCRIPTION:Mixed 3. Liga SW: Pool uRR
LOCATION: Fulda 1
DTSTART;TZID=Europe/Berlin:20240713T163000
DURATION: P100M
GEO:0.0000000000000;0.0000000000000
END:VEVENT

BEGIN:VEVENT
SUMMARY:Feldmädchen-Disconnection 3
DESCRIPTION:Mixed 3. Liga SW: Pool uRR
LOCATION: Fulda 2
DTSTART;TZID=Europe/Berlin:20240713T163000
DURATION: P100M
GEO:0.0000000000000;0.0000000000000
END:VEVENT

BEGIN:VEVENT
SUMMARY:enerGI-Team Südsee
DESCRIPTION:Mixed 3. Liga SW: Pool Finale 1-4
LOCATION: Fulda 1
DTSTART;TZID=Europe/Berlin:20240714T104000
DURATION: P100M
GEO:0.0000000000000;0.0000000000000
END:VEVENT

BEGIN:VEVENT
SUMMARY:Colorado 2-Disconnection 2
DESCRIPTION:Mixed 3. Liga SW: Pool Finale 1-4
LOCATION: Fulda 2
DTSTART;TZID=Europe/Berlin:20240714T104000
DURATION: P100M
GEO:0.0000000000000;0.0000000000000
END:VEVENT

BEGIN:VEVENT
SUMMARY:enerGI-Disconnection 2
DESCRIPTION:Mixed 3. Liga SW: Pool Finale 1-4 Finals
LOCATION: Fulda 1
DTSTART;TZID=Europe/Berlin:20240714T140000
DURATION: P100M
GEO:0.0000000000000;0.0000000000000
END:VEVENT

BEGIN:VEVENT
SUMMARY:Team Südsee-Colorado 2
DESCRIPTION:Mixed 3. Liga SW: Pool Finale 1-4 Finals
LOCATION: Fulda 2
DTSTART;TZID=Europe/Berlin:20240714T140000
DURATION: P100M
GEO:0.0000000000000;0.0000000000000
END:VEVENT

BEGIN:VEVENT
SUMMARY:DAFKS Fuldimates-Disconnection 3
DESCRIPTION:Mixed 3. Liga SW: Pool uRR
LOCATION: Fulda 1
DTSTART;TZID=Europe/Berlin:20240714T090000
DURATION: P100M
GEO:0.0000000000000;0.0000000000000
END:VEVENT

BEGIN:VEVENT
SUMMARY:Feldmädchen-Flying Igels
DESCRIPTION:Mixed 3. Liga SW: Pool uRR
LOCATION: Fulda 2
DTSTART;TZID=Europe/Berlin:20240714T090000
DURATION: P100M
GEO:0.0000000000000;0.0000000000000
END:VEVENT

BEGIN:VEVENT
SUMMARY:Disconnection 3-Flying Igels
DESCRIPTION:Mixed 3. Liga SW: Pool uRR
LOCATION: Fulda 1
DTSTART;TZID=Europe/Berlin:20240714T122000
DURATION: P100M
GEO:0.0000000000000;0.0000000000000
END:VEVENT

BEGIN:VEVENT
SUMMARY:DAFKS Fuldimates-Feldmädchen
DESCRIPTION:Mixed 3. Liga SW: Pool uRR
LOCATION: Fulda 2
DTSTART;TZID=Europe/Berlin:20240714T122000
DURATION: P100M
GEO:0.0000000000000;0.0000000000000
END:VEVENT

END:VCALENDAR
