BEGIN:VCALENDAR
VERSION:2.0
PRODID: Ultiorganizer


BEGIN:VEVENT
SUMMARY:UltimateAmSee SC Weßling-Münchner Kindl
DESCRIPTION:4. Liga Süd-Ost Mixed: Pool A
LOCATION: Oldenburg 1
DTSTART;TZID=Europe/Berlin:20250222T090000
DURATION: P45M
GEO:53.1434516906738;8.2145519256592
END:VEVENT

BEGIN:VEVENT
SUMMARY:Wegwerfgesellschaft-Werfwölfe II
DESCRIPTION:4. Liga Süd-Ost Mixed: Pool A
LOCATION: Oldenburg 1
DTSTART;TZID=Europe/Berlin:20250222T094500
DURATION: P45M
GEO:53.1434516906738;8.2145519256592
END:VEVENT

BEGIN:VEVENT
SUMMARY:Passauer Ultimate Frisbee Freunde-MuH - Mir uss Haldawang
DESCRIPTION:4. Liga Süd-Ost Mixed: Pool A
LOCATION: Oldenburg 1
DTSTART;TZID=Europe/Berlin:20250222T103000
DURATION: P45M
GEO:53.1434516906738;8.2145519256592
END:VEVENT

BEGIN:VEVENT
SUMMARY:Münchner Kindl-GinPANsen
DESCRIPTION:4. Liga Süd-Ost Mixed: Pool A
LOCATION: Oldenburg 1
DTSTART;TZID=Europe/Berlin:20250222T111500
DURATION: P45M
GEO:53.1434516906738;8.2145519256592
END:VEVENT

BEGIN:VEVENT
SUMMARY:UltimateAmSee SC Weßling-Wegwerfgesellschaft
DESCRIPTION:4. Liga Süd-Ost Mixed: Pool A
LOCATION: Oldenburg 1
DTSTART;TZID=Europe/Berlin:20250222T120000
DURATION: P45M
GEO:53.1434516906738;8.2145519256592
END:VEVENT

BEGIN:VEVENT
SUMMARY:Werfwölfe II-Passauer Ultimate Frisbee Freunde
DESCRIPTION:4. Liga Süd-Ost Mixed: Pool A
LOCATION: Oldenburg 1
DTSTART;TZID=Europe/Berlin:20250222T124500
DURATION: P45M
GEO:53.1434516906738;8.2145519256592
END:VEVENT

BEGIN:VEVENT
SUMMARY:MuH - Mir uss Haldawang-GinPANsen
DESCRIPTION:4. Liga Süd-Ost Mixed: Pool A
LOCATION: Oldenburg 1
DTSTART;TZID=Europe/Berlin:20250222T133000
DURATION: P45M
GEO:53.1434516906738;8.2145519256592
END:VEVENT

BEGIN:VEVENT
SUMMARY:Münchner Kindl-Wegwerfgesellschaft
DESCRIPTION:4. Liga Süd-Ost Mixed: Pool A
LOCATION: Oldenburg 1
DTSTART;TZID=Europe/Berlin:20250222T141500
DURATION: P45M
GEO:53.1434516906738;8.2145519256592
END:VEVENT

BEGIN:VEVENT
SUMMARY:Passauer Ultimate Frisbee Freunde-UltimateAmSee SC Weßling
DESCRIPTION:4. Liga Süd-Ost Mixed: Pool A
LOCATION: Oldenburg 1
DTSTART;TZID=Europe/Berlin:20250222T150000
DURATION: P45M
GEO:53.1434516906738;8.2145519256592
END:VEVENT

BEGIN:VEVENT
SUMMARY:GinPANsen-Werfwölfe II
DESCRIPTION:4. Liga Süd-Ost Mixed: Pool A
LOCATION: Oldenburg 1
DTSTART;TZID=Europe/Berlin:20250222T154500
DURATION: P45M
GEO:53.1434516906738;8.2145519256592
END:VEVENT

BEGIN:VEVENT
SUMMARY:MuH - Mir uss Haldawang-Münchner Kindl
DESCRIPTION:4. Liga Süd-Ost Mixed: Pool A
LOCATION: Oldenburg 1
DTSTART;TZID=Europe/Berlin:20250222T163000
DURATION: P45M
GEO:53.1434516906738;8.2145519256592
END:VEVENT

BEGIN:VEVENT
SUMMARY:Wegwerfgesellschaft-Passauer Ultimate Frisbee Freunde
DESCRIPTION:4. Liga Süd-Ost Mixed: Pool A
LOCATION: Oldenburg 1
DTSTART;TZID=Europe/Berlin:20250222T171500
DURATION: P45M
GEO:53.1434516906738;8.2145519256592
END:VEVENT

BEGIN:VEVENT
SUMMARY:GinPANsen-UltimateAmSee SC Weßling
DESCRIPTION:4. Liga Süd-Ost Mixed: Pool A
LOCATION: Oldenburg 1
DTSTART;TZID=Europe/Berlin:20250222T180000
DURATION: P45M
GEO:53.1434516906738;8.2145519256592
END:VEVENT

BEGIN:VEVENT
SUMMARY:Werfwölfe II-MuH - Mir uss Haldawang
DESCRIPTION:4. Liga Süd-Ost Mixed: Pool A
LOCATION: Oldenburg 1
DTSTART;TZID=Europe/Berlin:20250222T184500
DURATION: P45M
GEO:53.1434516906738;8.2145519256592
END:VEVENT

BEGIN:VEVENT
SUMMARY:GinPANsen-Passauer Ultimate Frisbee Freunde
DESCRIPTION:4. Liga Süd-Ost Mixed: Pool A
LOCATION: Oldenburg 2
DTSTART;TZID=Europe/Berlin:20250223T100000
DURATION: P45M
GEO:53.1434516906738;8.2145519256592
END:VEVENT

BEGIN:VEVENT
SUMMARY:MuH - Mir uss Haldawang-Wegwerfgesellschaft
DESCRIPTION:4. Liga Süd-Ost Mixed: Pool A
LOCATION: Oldenburg 2
DTSTART;TZID=Europe/Berlin:20250223T104500
DURATION: P45M
GEO:53.1434516906738;8.2145519256592
END:VEVENT

BEGIN:VEVENT
SUMMARY:Werfwölfe II-UltimateAmSee SC Weßling
DESCRIPTION:4. Liga Süd-Ost Mixed: Pool A
LOCATION: Oldenburg 2
DTSTART;TZID=Europe/Berlin:20250223T113000
DURATION: P45M
GEO:53.1434516906738;8.2145519256592
END:VEVENT

BEGIN:VEVENT
SUMMARY:Passauer Ultimate Frisbee Freunde-Münchner Kindl
DESCRIPTION:4. Liga Süd-Ost Mixed: Pool A
LOCATION: Oldenburg 2
DTSTART;TZID=Europe/Berlin:20250223T121500
DURATION: P45M
GEO:53.1434516906738;8.2145519256592
END:VEVENT

BEGIN:VEVENT
SUMMARY:Wegwerfgesellschaft-GinPANsen
DESCRIPTION:4. Liga Süd-Ost Mixed: Pool A
LOCATION: Oldenburg 2
DTSTART;TZID=Europe/Berlin:20250223T130000
DURATION: P45M
GEO:53.1434516906738;8.2145519256592
END:VEVENT

BEGIN:VEVENT
SUMMARY:UltimateAmSee SC Weßling-MuH - Mir uss Haldawang
DESCRIPTION:4. Liga Süd-Ost Mixed: Pool A
LOCATION: Oldenburg 2
DTSTART;TZID=Europe/Berlin:20250223T134500
DURATION: P45M
GEO:53.1434516906738;8.2145519256592
END:VEVENT

BEGIN:VEVENT
SUMMARY:Münchner Kindl-Werfwölfe II
DESCRIPTION:4. Liga Süd-Ost Mixed: Pool A
LOCATION: Oldenburg 2
DTSTART;TZID=Europe/Berlin:20250223T143000
DURATION: P45M
GEO:53.1434516906738;8.2145519256592
END:VEVENT

END:VCALENDAR
