BEGIN:VCALENDAR
VERSION:2.0
PRODID: Ultiorganizer


BEGIN:VEVENT
SUMMARY:MUC-Unwucht Erlangen
DESCRIPTION:2. Liga Süd Frauen: Pool A
LOCATION: München 1
DTSTART;TZID=Europe/Berlin:20250705T100000
DURATION: P80M
GEO:48.1351242065430;11.5819807052612
END:VEVENT

BEGIN:VEVENT
SUMMARY:Mainz Ultimate-Stuttgarter Frauen
DESCRIPTION:2. Liga Süd Frauen: Pool A
LOCATION: München 1
DTSTART;TZID=Europe/Berlin:20250705T112000
DURATION: P80M
GEO:48.1351242065430;11.5819807052612
END:VEVENT

BEGIN:VEVENT
SUMMARY:ULMtimates-Schwestern Grimm
DESCRIPTION:2. Liga Süd Frauen: Pool A
LOCATION: München 2
DTSTART;TZID=Europe/Berlin:20250705T112000
DURATION: P80M
GEO:48.1351242065430;11.5819807052612
END:VEVENT

BEGIN:VEVENT
SUMMARY:Stuttgarter Frauen-ULMtimates
DESCRIPTION:2. Liga Süd Frauen: Pool A
LOCATION: München 1
DTSTART;TZID=Europe/Berlin:20250705T133000
DURATION: P80M
GEO:48.1351242065430;11.5819807052612
END:VEVENT

BEGIN:VEVENT
SUMMARY:Schwestern Grimm-MUC
DESCRIPTION:2. Liga Süd Frauen: Pool A
LOCATION: München 2
DTSTART;TZID=Europe/Berlin:20250705T133000
DURATION: P80M
GEO:48.1351242065430;11.5819807052612
END:VEVENT

BEGIN:VEVENT
SUMMARY:Mainz Ultimate-Unwucht Erlangen
DESCRIPTION:2. Liga Süd Frauen: Pool A
LOCATION: München 1
DTSTART;TZID=Europe/Berlin:20250705T145000
DURATION: P80M
GEO:48.1351242065430;11.5819807052612
END:VEVENT

BEGIN:VEVENT
SUMMARY:MUC-Stuttgarter Frauen
DESCRIPTION:2. Liga Süd Frauen: Pool A
LOCATION: München 2
DTSTART;TZID=Europe/Berlin:20250705T154000
DURATION: P80M
GEO:48.1351242065430;11.5819807052612
END:VEVENT

BEGIN:VEVENT
SUMMARY:Schwestern Grimm-Mainz Ultimate
DESCRIPTION:2. Liga Süd Frauen: Pool A
LOCATION: München 1
DTSTART;TZID=Europe/Berlin:20250705T170000
DURATION: P80M
GEO:48.1351242065430;11.5819807052612
END:VEVENT

BEGIN:VEVENT
SUMMARY:Unwucht Erlangen-ULMtimates
DESCRIPTION:2. Liga Süd Frauen: Pool A
LOCATION: München 2
DTSTART;TZID=Europe/Berlin:20250705T170000
DURATION: P80M
GEO:48.1351242065430;11.5819807052612
END:VEVENT

BEGIN:VEVENT
SUMMARY:Stuttgarter Frauen-Unwucht Erlangen
DESCRIPTION:2. Liga Süd Frauen: Pool A
LOCATION: München 1
DTSTART;TZID=Europe/Berlin:20250706T100000
DURATION: P80M
GEO:48.1351242065430;11.5819807052612
END:VEVENT

BEGIN:VEVENT
SUMMARY:MUC-Mainz Ultimate
DESCRIPTION:2. Liga Süd Frauen: Pool A
LOCATION: München 2
DTSTART;TZID=Europe/Berlin:20250706T100000
DURATION: P80M
GEO:48.1351242065430;11.5819807052612
END:VEVENT

BEGIN:VEVENT
SUMMARY:ULMtimates-MUC
DESCRIPTION:2. Liga Süd Frauen: Pool A
LOCATION: München 1
DTSTART;TZID=Europe/Berlin:20250706T121000
DURATION: P80M
GEO:48.1351242065430;11.5819807052612
END:VEVENT

BEGIN:VEVENT
SUMMARY:Unwucht Erlangen-Schwestern Grimm
DESCRIPTION:2. Liga Süd Frauen: Pool A
LOCATION: München 2
DTSTART;TZID=Europe/Berlin:20250706T121000
DURATION: P80M
GEO:48.1351242065430;11.5819807052612
END:VEVENT

BEGIN:VEVENT
SUMMARY:Mainz Ultimate-ULMtimates
DESCRIPTION:2. Liga Süd Frauen: Pool A
LOCATION: München 1
DTSTART;TZID=Europe/Berlin:20250706T142000
DURATION: P80M
GEO:48.1351242065430;11.5819807052612
END:VEVENT

BEGIN:VEVENT
SUMMARY:Schwestern Grimm-Stuttgarter Frauen
DESCRIPTION:2. Liga Süd Frauen: Pool A
LOCATION: München 2
DTSTART;TZID=Europe/Berlin:20250706T142000
DURATION: P80M
GEO:48.1351242065430;11.5819807052612
END:VEVENT

BEGIN:VEVENT
SUMMARY:ULMtimates-Stuttgarter Frauen
DESCRIPTION:2. Liga Süd Frauen: Rückrunde
LOCATION: Stuttgart 1
DTSTART;TZID=Europe/Berlin:20250726T100000
DURATION: P80M
GEO:0.0000000000000;0.0000000000000
END:VEVENT

BEGIN:VEVENT
SUMMARY:Mainz Ultimate-Schwestern Grimm
DESCRIPTION:2. Liga Süd Frauen: Rückrunde
LOCATION: Stuttgart 1
DTSTART;TZID=Europe/Berlin:20250726T112000
DURATION: P80M
GEO:0.0000000000000;0.0000000000000
END:VEVENT

BEGIN:VEVENT
SUMMARY:MUC-Unwucht Erlangen
DESCRIPTION:2. Liga Süd Frauen: Rückrunde
LOCATION: Stuttgart 2
DTSTART;TZID=Europe/Berlin:20250726T112000
DURATION: P80M
GEO:0.0000000000000;0.0000000000000
END:VEVENT

BEGIN:VEVENT
SUMMARY:Schwestern Grimm-MUC
DESCRIPTION:2. Liga Süd Frauen: Rückrunde
LOCATION: Stuttgart 1
DTSTART;TZID=Europe/Berlin:20250726T133000
DURATION: P80M
GEO:0.0000000000000;0.0000000000000
END:VEVENT

BEGIN:VEVENT
SUMMARY:Unwucht Erlangen-ULMtimates
DESCRIPTION:2. Liga Süd Frauen: Rückrunde
LOCATION: Stuttgart 2
DTSTART;TZID=Europe/Berlin:20250726T133000
DURATION: P80M
GEO:0.0000000000000;0.0000000000000
END:VEVENT

BEGIN:VEVENT
SUMMARY:Mainz Ultimate-Stuttgarter Frauen
DESCRIPTION:2. Liga Süd Frauen: Rückrunde
LOCATION: Stuttgart 1
DTSTART;TZID=Europe/Berlin:20250726T145000
DURATION: P80M
GEO:0.0000000000000;0.0000000000000
END:VEVENT

BEGIN:VEVENT
SUMMARY:ULMtimates-Schwestern Grimm
DESCRIPTION:2. Liga Süd Frauen: Rückrunde
LOCATION: Stuttgart 2
DTSTART;TZID=Europe/Berlin:20250726T154000
DURATION: P80M
GEO:0.0000000000000;0.0000000000000
END:VEVENT

BEGIN:VEVENT
SUMMARY:Unwucht Erlangen-Mainz Ultimate
DESCRIPTION:2. Liga Süd Frauen: Rückrunde
LOCATION: Stuttgart 1
DTSTART;TZID=Europe/Berlin:20250726T170000
DURATION: P80M
GEO:0.0000000000000;0.0000000000000
END:VEVENT

BEGIN:VEVENT
SUMMARY:Stuttgarter Frauen-MUC
DESCRIPTION:2. Liga Süd Frauen: Rückrunde
LOCATION: Stuttgart 2
DTSTART;TZID=Europe/Berlin:20250726T170000
DURATION: P80M
GEO:0.0000000000000;0.0000000000000
END:VEVENT

BEGIN:VEVENT
SUMMARY:Schwestern Grimm-Stuttgarter Frauen
DESCRIPTION:2. Liga Süd Frauen: Rückrunde
LOCATION: Stuttgart 1
DTSTART;TZID=Europe/Berlin:20250727T100000
DURATION: P80M
GEO:0.0000000000000;0.0000000000000
END:VEVENT

BEGIN:VEVENT
SUMMARY:ULMtimates-Mainz Ultimate
DESCRIPTION:2. Liga Süd Frauen: Rückrunde
LOCATION: Stuttgart 2
DTSTART;TZID=Europe/Berlin:20250727T100000
DURATION: P80M
GEO:0.0000000000000;0.0000000000000
END:VEVENT

BEGIN:VEVENT
SUMMARY:MUC-ULMtimates
DESCRIPTION:2. Liga Süd Frauen: Rückrunde
LOCATION: Stuttgart 1
DTSTART;TZID=Europe/Berlin:20250727T121000
DURATION: P80M
GEO:0.0000000000000;0.0000000000000
END:VEVENT

BEGIN:VEVENT
SUMMARY:Stuttgarter Frauen-Unwucht Erlangen
DESCRIPTION:2. Liga Süd Frauen: Rückrunde
LOCATION: Stuttgart 2
DTSTART;TZID=Europe/Berlin:20250727T121000
DURATION: P80M
GEO:0.0000000000000;0.0000000000000
END:VEVENT

BEGIN:VEVENT
SUMMARY:Mainz Ultimate-MUC
DESCRIPTION:2. Liga Süd Frauen: Rückrunde
LOCATION: Stuttgart 1
DTSTART;TZID=Europe/Berlin:20250727T142000
DURATION: P80M
GEO:0.0000000000000;0.0000000000000
END:VEVENT

BEGIN:VEVENT
SUMMARY:Unwucht Erlangen-Schwestern Grimm
DESCRIPTION:2. Liga Süd Frauen: Rückrunde
LOCATION: Stuttgart 2
DTSTART;TZID=Europe/Berlin:20250727T142000
DURATION: P80M
GEO:0.0000000000000;0.0000000000000
END:VEVENT

END:VCALENDAR
