BEGIN:VCALENDAR
VERSION:2.0
PRODID: Ultiorganizer


BEGIN:VEVENT
SUMMARY:UltimateAmSee SC Weßling-Unwucht Erlangen
DESCRIPTION:3. Liga Süd-Ost Mixed, Indoor: Pool A
LOCATION: München 1
DTSTART;TZID=Europe/Berlin:20260207T090000
DURATION: P50M
GEO:48.1351242065430;11.5819807052612
END:VEVENT

BEGIN:VEVENT
SUMMARY:ESV Mixed Train-NXT Nürnberg
DESCRIPTION:3. Liga Süd-Ost Mixed, Indoor: Pool A
LOCATION: München 1
DTSTART;TZID=Europe/Berlin:20260207T095000
DURATION: P50M
GEO:48.1351242065430;11.5819807052612
END:VEVENT

BEGIN:VEVENT
SUMMARY:ESV Mixed Train-UltimateAmSee SC Weßling
DESCRIPTION:3. Liga Süd-Ost Mixed, Indoor: Pool A
LOCATION: München 1
DTSTART;TZID=Europe/Berlin:20260207T122000
DURATION: P50M
GEO:48.1351242065430;11.5819807052612
END:VEVENT

BEGIN:VEVENT
SUMMARY:NXT Nürnberg-Unwucht Erlangen
DESCRIPTION:3. Liga Süd-Ost Mixed, Indoor: Pool A
LOCATION: München 1
DTSTART;TZID=Europe/Berlin:20260207T131000
DURATION: P50M
GEO:48.1351242065430;11.5819807052612
END:VEVENT

BEGIN:VEVENT
SUMMARY:NXT Nürnberg-UltimateAmSee SC Weßling
DESCRIPTION:3. Liga Süd-Ost Mixed, Indoor: Pool A
LOCATION: München 1
DTSTART;TZID=Europe/Berlin:20260207T154000
DURATION: P50M
GEO:48.1351242065430;11.5819807052612
END:VEVENT

BEGIN:VEVENT
SUMMARY:Unwucht Erlangen-ESV Mixed Train
DESCRIPTION:3. Liga Süd-Ost Mixed, Indoor: Pool A
LOCATION: München 1
DTSTART;TZID=Europe/Berlin:20260207T163000
DURATION: P50M
GEO:48.1351242065430;11.5819807052612
END:VEVENT

BEGIN:VEVENT
SUMMARY:Ratisbona Eagles-Münchner Kindl
DESCRIPTION:3. Liga Süd-Ost Mixed, Indoor: Pool B
LOCATION: München 1
DTSTART;TZID=Europe/Berlin:20260207T104000
DURATION: P50M
GEO:48.1351242065430;11.5819807052612
END:VEVENT

BEGIN:VEVENT
SUMMARY:Wurfkultur-MINT
DESCRIPTION:3. Liga Süd-Ost Mixed, Indoor: Pool B
LOCATION: München 1
DTSTART;TZID=Europe/Berlin:20260207T113000
DURATION: P50M
GEO:48.1351242065430;11.5819807052612
END:VEVENT

BEGIN:VEVENT
SUMMARY:MINT-Münchner Kindl
DESCRIPTION:3. Liga Süd-Ost Mixed, Indoor: Pool B
LOCATION: München 1
DTSTART;TZID=Europe/Berlin:20260207T140000
DURATION: P50M
GEO:48.1351242065430;11.5819807052612
END:VEVENT

BEGIN:VEVENT
SUMMARY:Ratisbona Eagles-Wurfkultur
DESCRIPTION:3. Liga Süd-Ost Mixed, Indoor: Pool B
LOCATION: München 1
DTSTART;TZID=Europe/Berlin:20260207T145000
DURATION: P50M
GEO:48.1351242065430;11.5819807052612
END:VEVENT

BEGIN:VEVENT
SUMMARY:Wurfkultur-Münchner Kindl
DESCRIPTION:3. Liga Süd-Ost Mixed, Indoor: Pool B
LOCATION: München 1
DTSTART;TZID=Europe/Berlin:20260207T172000
DURATION: P50M
GEO:48.1351242065430;11.5819807052612
END:VEVENT

BEGIN:VEVENT
SUMMARY:Ratisbona Eagles-MINT
DESCRIPTION:3. Liga Süd-Ost Mixed, Indoor: Pool B
LOCATION: München 1
DTSTART;TZID=Europe/Berlin:20260207T181000
DURATION: P50M
GEO:48.1351242065430;11.5819807052612
END:VEVENT

BEGIN:VEVENT
SUMMARY:Unwucht Erlangen-Münchner Kindl
DESCRIPTION:3. Liga Süd-Ost Mixed, Indoor: Playoff 1-4
LOCATION: München 1
DTSTART;TZID=Europe/Berlin:20260208T104000
DURATION: P50M
GEO:48.1351242065430;11.5819807052612
END:VEVENT

BEGIN:VEVENT
SUMMARY:Ratisbona Eagles-UltimateAmSee SC Weßling
DESCRIPTION:3. Liga Süd-Ost Mixed, Indoor: Playoff 1-4
LOCATION: München 1
DTSTART;TZID=Europe/Berlin:20260208T113000
DURATION: P50M
GEO:48.1351242065430;11.5819807052612
END:VEVENT

BEGIN:VEVENT
SUMMARY:Unwucht Erlangen-UltimateAmSee SC Weßling
DESCRIPTION:3. Liga Süd-Ost Mixed, Indoor: Playoff 1-4 Finals
LOCATION: München 1
DTSTART;TZID=Europe/Berlin:20260208T140000
DURATION: P50M
GEO:48.1351242065430;11.5819807052612
END:VEVENT

BEGIN:VEVENT
SUMMARY:Münchner Kindl-Ratisbona Eagles
DESCRIPTION:3. Liga Süd-Ost Mixed, Indoor: Playoff 1-4 Finals
LOCATION: München 1
DTSTART;TZID=Europe/Berlin:20260208T145000
DURATION: P50M
GEO:48.1351242065430;11.5819807052612
END:VEVENT

BEGIN:VEVENT
SUMMARY:NXT Nürnberg-MINT
DESCRIPTION:3. Liga Süd-Ost Mixed, Indoor: RR 5-8
LOCATION: München 1
DTSTART;TZID=Europe/Berlin:20260208T090000
DURATION: P50M
GEO:48.1351242065430;11.5819807052612
END:VEVENT

BEGIN:VEVENT
SUMMARY:ESV Mixed Train-Wurfkultur
DESCRIPTION:3. Liga Süd-Ost Mixed, Indoor: RR 5-8
LOCATION: München 1
DTSTART;TZID=Europe/Berlin:20260208T095000
DURATION: P50M
GEO:48.1351242065430;11.5819807052612
END:VEVENT

BEGIN:VEVENT
SUMMARY:Wurfkultur-NXT Nürnberg
DESCRIPTION:3. Liga Süd-Ost Mixed, Indoor: RR 5-8
LOCATION: München 1
DTSTART;TZID=Europe/Berlin:20260208T122000
DURATION: P50M
GEO:48.1351242065430;11.5819807052612
END:VEVENT

BEGIN:VEVENT
SUMMARY:ESV Mixed Train-MINT
DESCRIPTION:3. Liga Süd-Ost Mixed, Indoor: RR 5-8
LOCATION: München 1
DTSTART;TZID=Europe/Berlin:20260208T131000
DURATION: P50M
GEO:48.1351242065430;11.5819807052612
END:VEVENT

END:VCALENDAR
