BEGIN:VCALENDAR
VERSION:2.0
PRODID: Ultiorganizer


BEGIN:VEVENT
SUMMARY:Aschenpottel-U de Cologne
DESCRIPTION:1. Liga Frauen, Indoor: Pool A
LOCATION: Dresden 1
DTSTART;TZID=Europe/Berlin:20260228T090000
DURATION: P50M
GEO:51.0504074096680;13.7372617721558
END:VEVENT

BEGIN:VEVENT
SUMMARY:Undercover-Zamperl
DESCRIPTION:1. Liga Frauen, Indoor: Pool A
LOCATION: Dresden 1
DTSTART;TZID=Europe/Berlin:20260228T095000
DURATION: P50M
GEO:51.0504074096680;13.7372617721558
END:VEVENT

BEGIN:VEVENT
SUMMARY:Undercover-Aschenpottel
DESCRIPTION:1. Liga Frauen, Indoor: Pool A
LOCATION: Dresden 1
DTSTART;TZID=Europe/Berlin:20260228T122000
DURATION: P50M
GEO:51.0504074096680;13.7372617721558
END:VEVENT

BEGIN:VEVENT
SUMMARY:Zamperl-U de Cologne
DESCRIPTION:1. Liga Frauen, Indoor: Pool A
LOCATION: Dresden 1
DTSTART;TZID=Europe/Berlin:20260228T131000
DURATION: P50M
GEO:51.0504074096680;13.7372617721558
END:VEVENT

BEGIN:VEVENT
SUMMARY:Zamperl-Aschenpottel
DESCRIPTION:1. Liga Frauen, Indoor: Pool A
LOCATION: Dresden 1
DTSTART;TZID=Europe/Berlin:20260228T154000
DURATION: P50M
GEO:51.0504074096680;13.7372617721558
END:VEVENT

BEGIN:VEVENT
SUMMARY:U de Cologne-Undercover
DESCRIPTION:1. Liga Frauen, Indoor: Pool A
LOCATION: Dresden 1
DTSTART;TZID=Europe/Berlin:20260228T163000
DURATION: P50M
GEO:51.0504074096680;13.7372617721558
END:VEVENT

BEGIN:VEVENT
SUMMARY:Heidees-Black Foxx
DESCRIPTION:1. Liga Frauen, Indoor: Pool B
LOCATION: Dresden 1
DTSTART;TZID=Europe/Berlin:20260228T104000
DURATION: P50M
GEO:51.0504074096680;13.7372617721558
END:VEVENT

BEGIN:VEVENT
SUMMARY:Hucks Ultimate Club Berlin-Yrr
DESCRIPTION:1. Liga Frauen, Indoor: Pool B
LOCATION: Dresden 1
DTSTART;TZID=Europe/Berlin:20260228T113000
DURATION: P50M
GEO:51.0504074096680;13.7372617721558
END:VEVENT

BEGIN:VEVENT
SUMMARY:Yrr-Black Foxx
DESCRIPTION:1. Liga Frauen, Indoor: Pool B
LOCATION: Dresden 1
DTSTART;TZID=Europe/Berlin:20260228T140000
DURATION: P50M
GEO:51.0504074096680;13.7372617721558
END:VEVENT

BEGIN:VEVENT
SUMMARY:Heidees-Hucks Ultimate Club Berlin
DESCRIPTION:1. Liga Frauen, Indoor: Pool B
LOCATION: Dresden 1
DTSTART;TZID=Europe/Berlin:20260228T145000
DURATION: P50M
GEO:51.0504074096680;13.7372617721558
END:VEVENT

BEGIN:VEVENT
SUMMARY:Hucks Ultimate Club Berlin-Black Foxx
DESCRIPTION:1. Liga Frauen, Indoor: Pool B
LOCATION: Dresden 1
DTSTART;TZID=Europe/Berlin:20260228T172000
DURATION: P50M
GEO:51.0504074096680;13.7372617721558
END:VEVENT

BEGIN:VEVENT
SUMMARY:Heidees-Yrr
DESCRIPTION:1. Liga Frauen, Indoor: Pool B
LOCATION: Dresden 1
DTSTART;TZID=Europe/Berlin:20260228T181000
DURATION: P50M
GEO:51.0504074096680;13.7372617721558
END:VEVENT

BEGIN:VEVENT
SUMMARY:Zamperl-Heidees
DESCRIPTION:1. Liga Frauen, Indoor: Playoff 1-4
LOCATION: Dresden 1
DTSTART;TZID=Europe/Berlin:20260301T104000
DURATION: P50M
GEO:51.0504074096680;13.7372617721558
END:VEVENT

BEGIN:VEVENT
SUMMARY:Black Foxx-Undercover
DESCRIPTION:1. Liga Frauen, Indoor: Playoff 1-4
LOCATION: Dresden 1
DTSTART;TZID=Europe/Berlin:20260301T113000
DURATION: P50M
GEO:51.0504074096680;13.7372617721558
END:VEVENT

BEGIN:VEVENT
SUMMARY:Zamperl-Undercover
DESCRIPTION:1. Liga Frauen, Indoor: Playoff 1-4 Finals
LOCATION: Dresden 1
DTSTART;TZID=Europe/Berlin:20260301T140000
DURATION: P50M
GEO:51.0504074096680;13.7372617721558
END:VEVENT

BEGIN:VEVENT
SUMMARY:Heidees-Black Foxx
DESCRIPTION:1. Liga Frauen, Indoor: Playoff 1-4 Finals
LOCATION: Dresden 1
DTSTART;TZID=Europe/Berlin:20260301T145000
DURATION: P50M
GEO:51.0504074096680;13.7372617721558
END:VEVENT

BEGIN:VEVENT
SUMMARY:Aschenpottel-Hucks Ultimate Club Berlin
DESCRIPTION:1. Liga Frauen, Indoor: RR 5-8
LOCATION: Dresden 1
DTSTART;TZID=Europe/Berlin:20260301T090000
DURATION: P50M
GEO:51.0504074096680;13.7372617721558
END:VEVENT

BEGIN:VEVENT
SUMMARY:U de Cologne-Yrr
DESCRIPTION:1. Liga Frauen, Indoor: RR 5-8
LOCATION: Dresden 1
DTSTART;TZID=Europe/Berlin:20260301T095000
DURATION: P50M
GEO:51.0504074096680;13.7372617721558
END:VEVENT

BEGIN:VEVENT
SUMMARY:Yrr-Aschenpottel
DESCRIPTION:1. Liga Frauen, Indoor: RR 5-8
LOCATION: Dresden 1
DTSTART;TZID=Europe/Berlin:20260301T122000
DURATION: P50M
GEO:51.0504074096680;13.7372617721558
END:VEVENT

BEGIN:VEVENT
SUMMARY:U de Cologne-Hucks Ultimate Club Berlin
DESCRIPTION:1. Liga Frauen, Indoor: RR 5-8
LOCATION: Dresden 1
DTSTART;TZID=Europe/Berlin:20260301T131000
DURATION: P50M
GEO:51.0504074096680;13.7372617721558
END:VEVENT

END:VCALENDAR
