BEGIN:VCALENDAR
VERSION:2.0
PRODID: Ultiorganizer


BEGIN:VEVENT
SUMMARY:Pizza Volante-Bad Raps
DESCRIPTION:U14: Pool A
LOCATION: Leipzig 1
DTSTART;TZID=Europe/Berlin:20260321T090000
DURATION: P30M
GEO:51.3396949768066;12.3730745315552
END:VEVENT

BEGIN:VEVENT
SUMMARY:Windhosen Wilhelmshaven-Pizza Volante
DESCRIPTION:U14: Pool A
LOCATION: Leipzig 1
DTSTART;TZID=Europe/Berlin:20260321T111500
DURATION: P30M
GEO:51.3396949768066;12.3730745315552
END:VEVENT

BEGIN:VEVENT
SUMMARY:Bad Raps-Windhosen Wilhelmshaven
DESCRIPTION:U14: Pool A
LOCATION: Leipzig 1
DTSTART;TZID=Europe/Berlin:20260321T133000
DURATION: P30M
GEO:51.3396949768066;12.3730745315552
END:VEVENT

BEGIN:VEVENT
SUMMARY:Juniorwolves-Frizzly Bears Frizzlies
DESCRIPTION:U14: Pool B
LOCATION: Leipzig 2
DTSTART;TZID=Europe/Berlin:20260321T090000
DURATION: P30M
GEO:51.3396949768066;12.3730745315552
END:VEVENT

BEGIN:VEVENT
SUMMARY:Lions LUFC-Juniorwolves
DESCRIPTION:U14: Pool B
LOCATION: Leipzig 2
DTSTART;TZID=Europe/Berlin:20260321T111500
DURATION: P30M
GEO:51.3396949768066;12.3730745315552
END:VEVENT

BEGIN:VEVENT
SUMMARY:Frizzly Bears Frizzlies-Lions LUFC
DESCRIPTION:U14: Pool B
LOCATION: Leipzig 2
DTSTART;TZID=Europe/Berlin:20260321T133000
DURATION: P30M
GEO:51.3396949768066;12.3730745315552
END:VEVENT

BEGIN:VEVENT
SUMMARY:TeKielas Ostseekids-Moskitos
DESCRIPTION:U14: Pool C
LOCATION: Leipzig 3
DTSTART;TZID=Europe/Berlin:20260321T090000
DURATION: P30M
GEO:51.3396949768066;12.3730745315552
END:VEVENT

BEGIN:VEVENT
SUMMARY:Goldfingers-TeKielas Ostseekids
DESCRIPTION:U14: Pool C
LOCATION: Leipzig 3
DTSTART;TZID=Europe/Berlin:20260321T111500
DURATION: P30M
GEO:51.3396949768066;12.3730745315552
END:VEVENT

BEGIN:VEVENT
SUMMARY:Moskitos-Goldfingers
DESCRIPTION:U14: Pool C
LOCATION: Leipzig 3
DTSTART;TZID=Europe/Berlin:20260321T133000
DURATION: P30M
GEO:51.3396949768066;12.3730745315552
END:VEVENT

BEGIN:VEVENT
SUMMARY:Lufos-SC Münster 08 - U14
DESCRIPTION:U14: Pool D
LOCATION: Leipzig 4
DTSTART;TZID=Europe/Berlin:20260321T090000
DURATION: P30M
GEO:51.3396949768066;12.3730745315552
END:VEVENT

BEGIN:VEVENT
SUMMARY:SC Münster 08 - U14-Disckick
DESCRIPTION:U14: Pool D
LOCATION: Leipzig 4
DTSTART;TZID=Europe/Berlin:20260321T111500
DURATION: P30M
GEO:51.3396949768066;12.3730745315552
END:VEVENT

BEGIN:VEVENT
SUMMARY:Disckick-Lufos
DESCRIPTION:U14: Pool D
LOCATION: Leipzig 4
DTSTART;TZID=Europe/Berlin:20260321T133000
DURATION: P30M
GEO:51.3396949768066;12.3730745315552
END:VEVENT

BEGIN:VEVENT
SUMMARY:Pizza Volante-Lions LUFC
DESCRIPTION:U14: Knockout 5-12
LOCATION: Leipzig 1
DTSTART;TZID=Europe/Berlin:20260321T154500
DURATION: P30M
GEO:51.3396949768066;12.3730745315552
END:VEVENT

BEGIN:VEVENT
SUMMARY:Disckick-TeKielas Ostseekids
DESCRIPTION:U14: Knockout 5-12
LOCATION: Leipzig 2
DTSTART;TZID=Europe/Berlin:20260321T154500
DURATION: P30M
GEO:51.3396949768066;12.3730745315552
END:VEVENT

BEGIN:VEVENT
SUMMARY:Juniorwolves-Windhosen Wilhelmshaven
DESCRIPTION:U14: Knockout 5-12
LOCATION: Leipzig 3
DTSTART;TZID=Europe/Berlin:20260321T154500
DURATION: P30M
GEO:51.3396949768066;12.3730745315552
END:VEVENT

BEGIN:VEVENT
SUMMARY:Goldfingers-Lufos
DESCRIPTION:U14: Knockout 5-12
LOCATION: Leipzig 4
DTSTART;TZID=Europe/Berlin:20260321T154500
DURATION: P30M
GEO:51.3396949768066;12.3730745315552
END:VEVENT

BEGIN:VEVENT
SUMMARY:Bad Raps-Goldfingers
DESCRIPTION:U14: Finale 1-8
LOCATION: Leipzig 1
DTSTART;TZID=Europe/Berlin:20260321T173000
DURATION: P30M
GEO:51.3396949768066;12.3730745315552
END:VEVENT

BEGIN:VEVENT
SUMMARY:SC Münster 08 - U14-Juniorwolves
DESCRIPTION:U14: Finale 1-8
LOCATION: Leipzig 2
DTSTART;TZID=Europe/Berlin:20260321T173000
DURATION: P30M
GEO:51.3396949768066;12.3730745315552
END:VEVENT

BEGIN:VEVENT
SUMMARY:Frizzly Bears Frizzlies-Disckick
DESCRIPTION:U14: Finale 1-8
LOCATION: Leipzig 3
DTSTART;TZID=Europe/Berlin:20260321T173000
DURATION: P30M
GEO:51.3396949768066;12.3730745315552
END:VEVENT

BEGIN:VEVENT
SUMMARY:Moskitos-Lions LUFC
DESCRIPTION:U14: Finale 1-8
LOCATION: Leipzig 4
DTSTART;TZID=Europe/Berlin:20260321T173000
DURATION: P30M
GEO:51.3396949768066;12.3730745315552
END:VEVENT

BEGIN:VEVENT
SUMMARY:Goldfingers-Lions LUFC
DESCRIPTION:U14: Finale 1-8 Semifinals
LOCATION: Leipzig 2
DTSTART;TZID=Europe/Berlin:20260322T090000
DURATION: P30M
GEO:51.3396949768066;12.3730745315552
END:VEVENT

BEGIN:VEVENT
SUMMARY:Juniorwolves-Frizzly Bears Frizzlies
DESCRIPTION:U14: Finale 1-8 Semifinals
LOCATION: Leipzig 4
DTSTART;TZID=Europe/Berlin:20260322T090000
DURATION: P30M
GEO:51.3396949768066;12.3730745315552
END:VEVENT

BEGIN:VEVENT
SUMMARY:Bad Raps-Moskitos
DESCRIPTION:U14: Finale 1-8 Semifinals
LOCATION: Leipzig 2
DTSTART;TZID=Europe/Berlin:20260322T111500
DURATION: P30M
GEO:51.3396949768066;12.3730745315552
END:VEVENT

BEGIN:VEVENT
SUMMARY:SC Münster 08 - U14-Disckick
DESCRIPTION:U14: Finale 1-8 Semifinals
LOCATION: Leipzig 4
DTSTART;TZID=Europe/Berlin:20260322T111500
DURATION: P30M
GEO:51.3396949768066;12.3730745315552
END:VEVENT

BEGIN:VEVENT
SUMMARY:Goldfingers-Juniorwolves
DESCRIPTION:U14: Finale 1-8 Finals
LOCATION: Leipzig 1
DTSTART;TZID=Europe/Berlin:20260322T121500
DURATION: P30M
GEO:51.3396949768066;12.3730745315552
END:VEVENT

BEGIN:VEVENT
SUMMARY:Lions LUFC-Frizzly Bears Frizzlies
DESCRIPTION:U14: Finale 1-8 Finals
LOCATION: Leipzig 1
DTSTART;TZID=Europe/Berlin:20260322T125000
DURATION: P30M
GEO:51.3396949768066;12.3730745315552
END:VEVENT

BEGIN:VEVENT
SUMMARY:Moskitos-Disckick
DESCRIPTION:U14: Finale 1-8 Finals
LOCATION: Leipzig 2
DTSTART;TZID=Europe/Berlin:20260322T125000
DURATION: P30M
GEO:51.3396949768066;12.3730745315552
END:VEVENT

BEGIN:VEVENT
SUMMARY:Bad Raps-SC Münster 08 - U14
DESCRIPTION:U14: Finale 1-8 Finals
LOCATION: Leipzig 3
DTSTART;TZID=Europe/Berlin:20260322T125000
DURATION: P30M
GEO:51.3396949768066;12.3730745315552
END:VEVENT

BEGIN:VEVENT
SUMMARY:Lufos-Pizza Volante
DESCRIPTION:U14: Finale 9-12
LOCATION: Leipzig 1
DTSTART;TZID=Europe/Berlin:20260322T090000
DURATION: P30M
GEO:51.3396949768066;12.3730745315552
END:VEVENT

BEGIN:VEVENT
SUMMARY:Windhosen Wilhelmshaven-TeKielas Ostseekids
DESCRIPTION:U14: Finale 9-12
LOCATION: Leipzig 3
DTSTART;TZID=Europe/Berlin:20260322T090000
DURATION: P30M
GEO:51.3396949768066;12.3730745315552
END:VEVENT

BEGIN:VEVENT
SUMMARY:Lufos-Windhosen Wilhelmshaven
DESCRIPTION:U14: Finale 9-12 Finals
LOCATION: Leipzig 1
DTSTART;TZID=Europe/Berlin:20260322T111500
DURATION: P30M
GEO:51.3396949768066;12.3730745315552
END:VEVENT

BEGIN:VEVENT
SUMMARY:Pizza Volante-TeKielas Ostseekids
DESCRIPTION:U14: Finale 9-12 Finals
LOCATION: Leipzig 3
DTSTART;TZID=Europe/Berlin:20260322T111500
DURATION: P30M
GEO:51.3396949768066;12.3730745315552
END:VEVENT

END:VCALENDAR
