BEGIN:VCALENDAR
VERSION:2.0
PRODID: Ultiorganizer


BEGIN:VEVENT
SUMMARY:Red Eagles-Goldfingers
DESCRIPTION:Mixed 3. Liga NO: Pool A
LOCATION: PSV-Stadion Neue Welt, Magdeb. 2
DTSTART;TZID=Europe/Berlin:20170701T090000
DURATION: P100M
GEO:52.1343193054199;11.7013101577759
END:VEVENT

BEGIN:VEVENT
SUMMARY:Goldfingers-Saxy Divers
DESCRIPTION:Mixed 3. Liga NO: Pool A
LOCATION: PSV-Stadion Neue Welt, Magdeb. 1
DTSTART;TZID=Europe/Berlin:20170701T122000
DURATION: P100M
GEO:52.1343193054199;11.7013101577759
END:VEVENT

BEGIN:VEVENT
SUMMARY:Griffins Lehre-Goldfingers
DESCRIPTION:Mixed 3. Liga NO: Pool A
LOCATION: PSV-Stadion Neue Welt, Magdeb. 2
DTSTART;TZID=Europe/Berlin:20170701T154000
DURATION: P100M
GEO:52.1343193054199;11.7013101577759
END:VEVENT

BEGIN:VEVENT
SUMMARY:Hallunken-Goldfingers
DESCRIPTION:Mixed 3. Liga NO: Pool A
LOCATION: PSV-Stadion Neue Welt, Magdeb. 1
DTSTART;TZID=Europe/Berlin:20170702T090000
DURATION: P100M
GEO:52.1343193054199;11.7013101577759
END:VEVENT

BEGIN:VEVENT
SUMMARY:Goldfingers-DiscUrs
DESCRIPTION:Mixed 3. Liga NO: Pool A
LOCATION: PSV-Stadion Neue Welt, Magdeb. 2
DTSTART;TZID=Europe/Berlin:20170702T122000
DURATION: P100M
GEO:52.1343193054199;11.7013101577759
END:VEVENT

BEGIN:VEVENT
SUMMARY:Goldfingers-Hund Flach Werfen
DESCRIPTION:Mixed 3. Liga NO: Pool A
LOCATION: Berlin 2
DTSTART;TZID=Europe/Berlin:20170826T093000
DURATION: P100M
GEO:52.5200080871582;13.4049539566040
END:VEVENT

BEGIN:VEVENT
SUMMARY:Goldfingers-DJ Dahlem
DESCRIPTION:Mixed 3. Liga NO: Pool A
LOCATION: Berlin 1
DTSTART;TZID=Europe/Berlin:20170826T125000
DURATION: P100M
GEO:52.5200080871582;13.4049539566040
END:VEVENT

BEGIN:VEVENT
SUMMARY:Goldfingers-Hund Flach Werfen
DESCRIPTION:Mixed 3. Liga NO: PreSemi
LOCATION: Berlin 2
DTSTART;TZID=Europe/Berlin:20170826T170000
DURATION: P100M
GEO:52.5200080871582;13.4049539566040
END:VEVENT

BEGIN:VEVENT
SUMMARY:DiscUrs-Goldfingers
DESCRIPTION:Mixed 3. Liga NO: Bottom 4
LOCATION: Berlin 1
DTSTART;TZID=Europe/Berlin:20170827T090000
DURATION: P100M
GEO:52.5200080871582;13.4049539566040
END:VEVENT

BEGIN:VEVENT
SUMMARY:Hallunken-Goldfingers
DESCRIPTION:Mixed 3. Liga NO: Bottom 4 Finals
LOCATION: Berlin 2
DTSTART;TZID=Europe/Berlin:20170827T122000
DURATION: P100M
GEO:52.5200080871582;13.4049539566040
END:VEVENT

END:VCALENDAR
