BEGIN:VCALENDAR
VERSION:2.0
PRODID: Ultiorganizer


BEGIN:VEVENT
SUMMARY:Seichtwasserschnorchler-Colorado 2
DESCRIPTION:Mixed 3. Liga Süd: Pool A
LOCATION: DJK BFC Concordia, Ziegelstein 1
DTSTART;TZID=Europe/Berlin:20170701T104000
DURATION: P100M
GEO:49.4908294677734;11.1110095977783
END:VEVENT

BEGIN:VEVENT
SUMMARY:Disconnection II-Seichtwasserschnorchler
DESCRIPTION:Mixed 3. Liga Süd: Pool A
LOCATION: DJK BFC Concordia, Ziegelstein 1
DTSTART;TZID=Europe/Berlin:20170701T140000
DURATION: P100M
GEO:49.4908294677734;11.1110095977783
END:VEVENT

BEGIN:VEVENT
SUMMARY:Seichtwasserschnorchler-ULMtimate
DESCRIPTION:Mixed 3. Liga Süd: Pool A
LOCATION: DJK BFC Concordia, Ziegelstein 2
DTSTART;TZID=Europe/Berlin:20170701T172000
DURATION: P100M
GEO:49.4908294677734;11.1110095977783
END:VEVENT

BEGIN:VEVENT
SUMMARY:Seichtwasserschnorchler-Ars Ludendi II
DESCRIPTION:Mixed 3. Liga Süd: Pool A
LOCATION: DJK BFC Concordia, Ziegelstein 1
DTSTART;TZID=Europe/Berlin:20170702T090000
DURATION: P100M
GEO:49.4908294677734;11.1110095977783
END:VEVENT

BEGIN:VEVENT
SUMMARY:Wer(f)wölfe-Seichtwasserschnorchler
DESCRIPTION:Mixed 3. Liga Süd: Pool A
LOCATION: DJK BFC Concordia, Ziegelstein 1
DTSTART;TZID=Europe/Berlin:20170702T122000
DURATION: P100M
GEO:49.4908294677734;11.1110095977783
END:VEVENT

BEGIN:VEVENT
SUMMARY:Wurfkultur-Seichtwasserschnorchler
DESCRIPTION:Mixed 3. Liga Süd: Pool A
LOCATION: DJK BFC Concordia, Ziegelstein 1
DTSTART;TZID=Europe/Berlin:20170826T111000
DURATION: P100M
GEO:49.4908294677734;11.1110095977783
END:VEVENT

BEGIN:VEVENT
SUMMARY:Unwucht Erlangen-Seichtwasserschnorchler
DESCRIPTION:Mixed 3. Liga Süd: Pool A
LOCATION: DJK BFC Concordia, Ziegelstein 2
DTSTART;TZID=Europe/Berlin:20170826T143000
DURATION: P100M
GEO:49.4908294677734;11.1110095977783
END:VEVENT

BEGIN:VEVENT
SUMMARY:Seichtwasserschnorchler-Colorado 2
DESCRIPTION:Mixed 3. Liga Süd: PreSemi
LOCATION: DJK BFC Concordia, Ziegelstein 1
DTSTART;TZID=Europe/Berlin:20170826T170000
DURATION: P100M
GEO:49.4908294677734;11.1110095977783
END:VEVENT

BEGIN:VEVENT
SUMMARY:ULMtimate-Seichtwasserschnorchler
DESCRIPTION:Mixed 3. Liga Süd: Top 4
LOCATION: DJK BFC Concordia, Ziegelstein 2
DTSTART;TZID=Europe/Berlin:20170827T104000
DURATION: P100M
GEO:49.4908294677734;11.1110095977783
END:VEVENT

BEGIN:VEVENT
SUMMARY:Unwucht Erlangen-Seichtwasserschnorchler
DESCRIPTION:Mixed 3. Liga Süd: Top 4 Finals
LOCATION: DJK BFC Concordia, Ziegelstein 2
DTSTART;TZID=Europe/Berlin:20170827T140000
DURATION: P100M
GEO:49.4908294677734;11.1110095977783
END:VEVENT

END:VCALENDAR
