BEGIN:VCALENDAR
VERSION:2.0
PRODID: Ultiorganizer


BEGIN:VEVENT
SUMMARY:Münchner Kindl-Cologne Colibris
DESCRIPTION:U17: Pool B
LOCATION: Potsdam 2
DTSTART;TZID=Europe/Berlin:20180317T120000
DURATION: P30M
GEO:52.3915710449219;13.0666170120239
END:VEVENT

BEGIN:VEVENT
SUMMARY:Cologne Colibris-Äitschbees
DESCRIPTION:U17: Pool B
LOCATION: Potsdam 2
DTSTART;TZID=Europe/Berlin:20180317T140000
DURATION: P30M
GEO:52.3915710449219;13.0666170120239
END:VEVENT

BEGIN:VEVENT
SUMMARY:Lions-Cologne Colibris
DESCRIPTION:U17: Pool B
LOCATION: Potsdam 2
DTSTART;TZID=Europe/Berlin:20180317T160000
DURATION: P30M
GEO:52.3915710449219;13.0666170120239
END:VEVENT

BEGIN:VEVENT
SUMMARY:Cologne Colibris-Disckick
DESCRIPTION:U17: Pool B
LOCATION: Potsdam 2
DTSTART;TZID=Europe/Berlin:20180317T180000
DURATION: P30M
GEO:52.3915710449219;13.0666170120239
END:VEVENT

BEGIN:VEVENT
SUMMARY:Cologne Colibris-Pizza Volante 2
DESCRIPTION:U17: Crossover
LOCATION: Potsdam 2
DTSTART;TZID=Europe/Berlin:20180318T103000
DURATION: P30M
GEO:52.3915710449219;13.0666170120239
END:VEVENT

BEGIN:VEVENT
SUMMARY:Münchner Kindl-Cologne Colibris
DESCRIPTION:U17: Finale 9-10
LOCATION: Potsdam 2
DTSTART;TZID=Europe/Berlin:20180318T130000
DURATION: P30M
GEO:52.3915710449219;13.0666170120239
END:VEVENT

END:VCALENDAR
