BEGIN:VCALENDAR
VERSION:2.0
PRODID: Ultiorganizer


BEGIN:VEVENT
SUMMARY:Heppie Frisbeez-Pizza Volante 2
DESCRIPTION:U17: Pool A
LOCATION: Potsdam 2
DTSTART;TZID=Europe/Berlin:20180317T090000
DURATION: P30M
GEO:52.3915710449219;13.0666170120239
END:VEVENT

BEGIN:VEVENT
SUMMARY:Pizza Volante 2-UFO
DESCRIPTION:U17: Pool A
LOCATION: Potsdam 2
DTSTART;TZID=Europe/Berlin:20180317T110000
DURATION: P30M
GEO:52.3915710449219;13.0666170120239
END:VEVENT

BEGIN:VEVENT
SUMMARY:TV Südkamen-Pizza Volante 2
DESCRIPTION:U17: Pool A
LOCATION: Potsdam 2
DTSTART;TZID=Europe/Berlin:20180317T133000
DURATION: P30M
GEO:52.3915710449219;13.0666170120239
END:VEVENT

BEGIN:VEVENT
SUMMARY:Pizza Volante 2-Pizza Volante 1
DESCRIPTION:U17: Pool A
LOCATION: Potsdam 2
DTSTART;TZID=Europe/Berlin:20180317T153000
DURATION: P30M
GEO:52.3915710449219;13.0666170120239
END:VEVENT

BEGIN:VEVENT
SUMMARY:Cologne Colibris-Pizza Volante 2
DESCRIPTION:U17: Crossover
LOCATION: Potsdam 2
DTSTART;TZID=Europe/Berlin:20180318T103000
DURATION: P30M
GEO:52.3915710449219;13.0666170120239
END:VEVENT

BEGIN:VEVENT
SUMMARY:Pizza Volante 1-Pizza Volante 2
DESCRIPTION:U17: Finale 5-8
LOCATION: Potsdam 2
DTSTART;TZID=Europe/Berlin:20180318T123000
DURATION: P30M
GEO:52.3915710449219;13.0666170120239
END:VEVENT

BEGIN:VEVENT
SUMMARY:TV Südkamen-Pizza Volante 2
DESCRIPTION:U17: Finale 5-8 Finals
LOCATION: Potsdam 2
DTSTART;TZID=Europe/Berlin:20180318T141500
DURATION: P30M
GEO:52.3915710449219;13.0666170120239
END:VEVENT

END:VCALENDAR
