BEGIN:VCALENDAR
VERSION:2.0
PRODID: Ultiorganizer


BEGIN:VEVENT
SUMMARY:Frizzly Bears-Saxy Divers
DESCRIPTION:Beach Mixed 2. Liga: Pool A
LOCATION: Warnemünde 3
DTSTART;TZID=Europe/Berlin:20180929T105000
DURATION: P55M
GEO:54.1703414916992;12.0784435272217
END:VEVENT

BEGIN:VEVENT
SUMMARY:Saxy Divers-Torpedo Phoenix
DESCRIPTION:Beach Mixed 2. Liga: Pool A
LOCATION: Warnemünde 4
DTSTART;TZID=Europe/Berlin:20180929T124000
DURATION: P55M
GEO:54.1703414916992;12.0784435272217
END:VEVENT

BEGIN:VEVENT
SUMMARY:Saxy Divers-DARKROOM TiB 1848
DESCRIPTION:Beach Mixed 2. Liga: Pool A
LOCATION: Warnemünde 4
DTSTART;TZID=Europe/Berlin:20180929T143000
DURATION: P55M
GEO:54.1703414916992;12.0784435272217
END:VEVENT

BEGIN:VEVENT
SUMMARY:Rotor Ultimate Berlin-Saxy Divers
DESCRIPTION:Beach Mixed 2. Liga: Pool A
LOCATION: Warnemünde 3
DTSTART;TZID=Europe/Berlin:20180929T171500
DURATION: P55M
GEO:54.1703414916992;12.0784435272217
END:VEVENT

BEGIN:VEVENT
SUMMARY:Funatics-Saxy Divers
DESCRIPTION:Beach Mixed 2. Liga: RR 1-5
LOCATION: Warnemünde 4
DTSTART;TZID=Europe/Berlin:20180930T090000
DURATION: P55M
GEO:54.1703414916992;12.0784435272217
END:VEVENT

BEGIN:VEVENT
SUMMARY:Göttinger 7-Saxy Divers
DESCRIPTION:Beach Mixed 2. Liga: RR 1-5
LOCATION: Warnemünde 4
DTSTART;TZID=Europe/Berlin:20180930T105000
DURATION: P55M
GEO:54.1703414916992;12.0784435272217
END:VEVENT

END:VCALENDAR
