BEGIN:VCALENDAR
VERSION:2.0
PRODID: Ultiorganizer


BEGIN:VEVENT
SUMMARY:Goldfingers-Frühsport 0,2
DESCRIPTION:Open Masters: Round Robin
LOCATION: Duisburg 2
DTSTART;TZID=Europe/Berlin:20190427T110000
DURATION: P100M
GEO:51.4344062805176;6.7623291015625
END:VEVENT

BEGIN:VEVENT
SUMMARY:Family Ultimate-Goldfingers
DESCRIPTION:Open Masters: Round Robin
LOCATION: Duisburg 2
DTSTART;TZID=Europe/Berlin:20190427T133000
DURATION: P100M
GEO:51.4344062805176;6.7623291015625
END:VEVENT

BEGIN:VEVENT
SUMMARY:Goldfingers-Heidees
DESCRIPTION:Open Masters: Round Robin
LOCATION: Duisburg 2
DTSTART;TZID=Europe/Berlin:20190427T160000
DURATION: P100M
GEO:51.4344062805176;6.7623291015625
END:VEVENT

BEGIN:VEVENT
SUMMARY:Sugar Daddies-Goldfingers
DESCRIPTION:Open Masters: Round Robin
LOCATION: Duisburg 1
DTSTART;TZID=Europe/Berlin:20190428T090000
DURATION: P100M
GEO:51.4344062805176;6.7623291015625
END:VEVENT

BEGIN:VEVENT
SUMMARY:Goldfingers-Heidees
DESCRIPTION:Open Masters: Finale
LOCATION: Duisburg 1
DTSTART;TZID=Europe/Berlin:20190428T140000
DURATION: P100M
GEO:51.4344062805176;6.7623291015625
END:VEVENT

END:VCALENDAR
