BEGIN:VCALENDAR
VERSION:2.0
PRODID: Ultiorganizer


BEGIN:VEVENT
SUMMARY:Disckick-Pizza Volante
DESCRIPTION:U20 Quali NO: Round Robin
LOCATION: Leipzig 1
DTSTART;TZID=Europe/Berlin:20190518T113000
DURATION: P45M
GEO:51.3396949768066;12.3730745315552
END:VEVENT

BEGIN:VEVENT
SUMMARY:Pizza Volante-Disckick
DESCRIPTION:U20 Quali NO: Round Robin
LOCATION: Leipzig 1
DTSTART;TZID=Europe/Berlin:20190518T140000
DURATION: P45M
GEO:51.3396949768066;12.3730745315552
END:VEVENT

END:VCALENDAR
