BEGIN:VCALENDAR
VERSION:2.0
PRODID: Ultiorganizer


BEGIN:VEVENT
SUMMARY:Cologne Colibris-Äitschbees II
DESCRIPTION:U14 Quali NW: Round Robin
LOCATION: Hermannsburg 4
DTSTART;TZID=Europe/Berlin:20190616T103000
DURATION: P30M
GEO:0.0000000000000;0.0000000000000
END:VEVENT

BEGIN:VEVENT
SUMMARY:Seans's Sheep-Cologne Colibris
DESCRIPTION:U14 Quali NW: Round Robin
LOCATION: Hermannsburg 4
DTSTART;TZID=Europe/Berlin:20190616T124000
DURATION: P30M
GEO:0.0000000000000;0.0000000000000
END:VEVENT

BEGIN:VEVENT
SUMMARY:Cologne Colibris-TV Verl
DESCRIPTION:U14 Quali NW: Round Robin
LOCATION: Hermannsburg 4
DTSTART;TZID=Europe/Berlin:20190616T143000
DURATION: P30M
GEO:0.0000000000000;0.0000000000000
END:VEVENT

BEGIN:VEVENT
SUMMARY:Äitschbees I-Cologne Colibris
DESCRIPTION:U14 Quali NW: Round Robin
LOCATION: Hermannsburg 4
DTSTART;TZID=Europe/Berlin:20190616T155000
DURATION: P30M
GEO:0.0000000000000;0.0000000000000
END:VEVENT

END:VCALENDAR
