BEGIN:VCALENDAR
VERSION:2.0
PRODID: Ultiorganizer


BEGIN:VEVENT
SUMMARY:Hamburg Alsters-Göttinger 7
DESCRIPTION:Mixed 3. Liga NW: Pool A
LOCATION: Bonn 2
DTSTART;TZID=Europe/Berlin:20190622T090000
DURATION: P100M
GEO:50.7374305725098;7.0982069969177
END:VEVENT

BEGIN:VEVENT
SUMMARY:Göttinger 7-Funatics
DESCRIPTION:Mixed 3. Liga NW: Pool A
LOCATION: Bonn 1
DTSTART;TZID=Europe/Berlin:20190622T122000
DURATION: P100M
GEO:50.7374305725098;7.0982069969177
END:VEVENT

BEGIN:VEVENT
SUMMARY:DU bist Frisbee-Göttinger 7
DESCRIPTION:Mixed 3. Liga NW: Pool A
LOCATION: Bonn 2
DTSTART;TZID=Europe/Berlin:20190622T154000
DURATION: P100M
GEO:50.7374305725098;7.0982069969177
END:VEVENT

BEGIN:VEVENT
SUMMARY:Hamburg Sturmflut 2-Göttinger 7
DESCRIPTION:Mixed 3. Liga NW: Pool A
LOCATION: Bonn 1
DTSTART;TZID=Europe/Berlin:20190623T090000
DURATION: P100M
GEO:50.7374305725098;7.0982069969177
END:VEVENT

BEGIN:VEVENT
SUMMARY:Göttinger 7-Endzonengammler Essen
DESCRIPTION:Mixed 3. Liga NW: Pool A
LOCATION: Bonn 2
DTSTART;TZID=Europe/Berlin:20190623T122000
DURATION: P100M
GEO:50.7374305725098;7.0982069969177
END:VEVENT

BEGIN:VEVENT
SUMMARY:Göttinger 7-Bonnsai
DESCRIPTION:Mixed 3. Liga NW: Pool A
LOCATION: Hamburg 2
DTSTART;TZID=Europe/Berlin:20190831T090000
DURATION: P100M
GEO:53.5510864257812;9.9936819076538
END:VEVENT

BEGIN:VEVENT
SUMMARY:Göttinger 7-Fischkutter
DESCRIPTION:Mixed 3. Liga NW: Pool A
LOCATION: Hamburg 1
DTSTART;TZID=Europe/Berlin:20190831T122000
DURATION: P100M
GEO:53.5510864257812;9.9936819076538
END:VEVENT

BEGIN:VEVENT
SUMMARY:Göttinger 7-Funatics
DESCRIPTION:Mixed 3. Liga NW: Playoffs 1-4
LOCATION: Hamburg 1
DTSTART;TZID=Europe/Berlin:20190901T104000
DURATION: P100M
GEO:53.5510864257812;9.9936819076538
END:VEVENT

BEGIN:VEVENT
SUMMARY:Göttinger 7-Bonnsai
DESCRIPTION:Mixed 3. Liga NW: Playoffs 1-4 Finals
LOCATION: Hamburg 1
DTSTART;TZID=Europe/Berlin:20190901T140000
DURATION: P100M
GEO:53.5510864257812;9.9936819076538
END:VEVENT

END:VCALENDAR
