BEGIN:VCALENDAR
VERSION:2.0
PRODID: Ultiorganizer


BEGIN:VEVENT
SUMMARY:Disckick-Cologne Colibris
DESCRIPTION:U20: Pool B
LOCATION: Kamen 2
DTSTART;TZID=Europe/Berlin:20190914T101500
DURATION: P45M
GEO:51.5882759094238;7.6590456962585
END:VEVENT

BEGIN:VEVENT
SUMMARY:Cologne Colibris-IsarRunners
DESCRIPTION:U20: Pool B
LOCATION: Kamen 2
DTSTART;TZID=Europe/Berlin:20190914T120000
DURATION: P45M
GEO:51.5882759094238;7.6590456962585
END:VEVENT

BEGIN:VEVENT
SUMMARY:Cologne Colibris-TV Südkamen
DESCRIPTION:U20: Pool B
LOCATION: Kamen 2
DTSTART;TZID=Europe/Berlin:20190914T134500
DURATION: P45M
GEO:51.5882759094238;7.6590456962585
END:VEVENT

BEGIN:VEVENT
SUMMARY:Pizza Volante-Cologne Colibris
DESCRIPTION:U20: Pool B
LOCATION: Kamen 1
DTSTART;TZID=Europe/Berlin:20190914T171500
DURATION: P45M
GEO:51.5882759094238;7.6590456962585
END:VEVENT

BEGIN:VEVENT
SUMMARY:Seans's Sheep-Cologne Colibris
DESCRIPTION:U20: Crossover
LOCATION: Kamen 1
DTSTART;TZID=Europe/Berlin:20190915T094500
DURATION: P45M
GEO:51.5882759094238;7.6590456962585
END:VEVENT

BEGIN:VEVENT
SUMMARY:Cologne Colibris-Pizza Volante
DESCRIPTION:U20: Finale 9-10
LOCATION: Kamen 1
DTSTART;TZID=Europe/Berlin:20190915T123000
DURATION: P45M
GEO:51.5882759094238;7.6590456962585
END:VEVENT

END:VCALENDAR
