BEGIN:VCALENDAR
VERSION:2.0
PRODID: Ultiorganizer


BEGIN:VEVENT
SUMMARY:Heidees-Cultimaters
DESCRIPTION:Mixed 2. Liga Süd: Pool A
LOCATION: Frankfurt am Main 1
DTSTART;TZID=Europe/Berlin:20211127T115000
DURATION: P50M
GEO:50.1109237670898;8.6821269989014
END:VEVENT

BEGIN:VEVENT
SUMMARY:Heidees-Colorado Storm
DESCRIPTION:Mixed 2. Liga Süd: Pool A
LOCATION: Frankfurt am Main 1
DTSTART;TZID=Europe/Berlin:20211127T132000
DURATION: P50M
GEO:50.1109237670898;8.6821269989014
END:VEVENT

BEGIN:VEVENT
SUMMARY:Frau Rauscher & the Bembelboys-Heidees
DESCRIPTION:Mixed 2. Liga Süd: Pool A
LOCATION: Frankfurt am Main 1
DTSTART;TZID=Europe/Berlin:20211127T154000
DURATION: P50M
GEO:50.1109237670898;8.6821269989014
END:VEVENT

END:VCALENDAR
