BEGIN:VCALENDAR
VERSION:2.0
PRODID: Ultiorganizer


BEGIN:VEVENT
SUMMARY:Lufos-Kindl
DESCRIPTION:U17 Quali Südost: U17
LOCATION: Augsburg 1
DTSTART;TZID=Europe/Berlin:20220522T100000
DURATION: P45M
GEO:48.3705444335938;10.8977899551392
END:VEVENT

BEGIN:VEVENT
SUMMARY:MuH-Kindl
DESCRIPTION:U17 Quali Südost: U17
LOCATION: Augsburg 2
DTSTART;TZID=Europe/Berlin:20220522T112000
DURATION: P45M
GEO:48.3705444335938;10.8977899551392
END:VEVENT

BEGIN:VEVENT
SUMMARY:Kindl-Moskitos
DESCRIPTION:U17 Quali Südost: U17
LOCATION: Augsburg 1
DTSTART;TZID=Europe/Berlin:20220522T140000
DURATION: P45M
GEO:48.3705444335938;10.8977899551392
END:VEVENT

BEGIN:VEVENT
SUMMARY:Kindl-Juniorwolves
DESCRIPTION:U17 Quali Südost: U17
LOCATION: Augsburg 2
DTSTART;TZID=Europe/Berlin:20220522T152000
DURATION: P45M
GEO:48.3705444335938;10.8977899551392
END:VEVENT

END:VCALENDAR
