BEGIN:VCALENDAR
VERSION:2.0
PRODID: Ultiorganizer


BEGIN:VEVENT
SUMMARY:Hässliche Erdferkel-Frühsport 0,2
DESCRIPTION:Open 1. Liga: Pool B
LOCATION: Wuppertal 2
DTSTART;TZID=Europe/Berlin:20230128T090000
DURATION: P50M
GEO:51.2560386657715;7.1484947204590
END:VEVENT

BEGIN:VEVENT
SUMMARY:Frühsport 0,2-enerGI
DESCRIPTION:Open 1. Liga: Pool B
LOCATION: Wuppertal 2
DTSTART;TZID=Europe/Berlin:20230128T140000
DURATION: P50M
GEO:51.2560386657715;7.1484947204590
END:VEVENT

BEGIN:VEVENT
SUMMARY:Frühsport 0,2-Caracals
DESCRIPTION:Open 1. Liga: Pool B
LOCATION: Wuppertal 2
DTSTART;TZID=Europe/Berlin:20230128T172000
DURATION: P50M
GEO:51.2560386657715;7.1484947204590
END:VEVENT

BEGIN:VEVENT
SUMMARY:Zamperl-Frühsport 0,2
DESCRIPTION:Open 1. Liga: Pool B
LOCATION: Wuppertal 2
DTSTART;TZID=Europe/Berlin:20230129T113000
DURATION: P50M
GEO:51.2560386657715;7.1484947204590
END:VEVENT

BEGIN:VEVENT
SUMMARY:Family Ultimate-Frühsport 0,2
DESCRIPTION:Open 1. Liga: Pool B
LOCATION: Wuppertal 2
DTSTART;TZID=Europe/Berlin:20230129T145000
DURATION: P50M
GEO:51.2560386657715;7.1484947204590
END:VEVENT

BEGIN:VEVENT
SUMMARY:Frühsport 0,2-Cultimaters
DESCRIPTION:Open 1. Liga: Pool B
LOCATION: Eppelheim 1
DTSTART;TZID=Europe/Berlin:20230225T095000
DURATION: P50M
GEO:49.4006271362305;8.6299171447754
END:VEVENT

BEGIN:VEVENT
SUMMARY:Frizzly Bears-Frühsport 0,2
DESCRIPTION:Open 1. Liga: Pool B
LOCATION: Eppelheim 1
DTSTART;TZID=Europe/Berlin:20230225T140000
DURATION: P50M
GEO:49.4006271362305;8.6299171447754
END:VEVENT

BEGIN:VEVENT
SUMMARY:ULMtimates-Frühsport 0,2
DESCRIPTION:Open 1. Liga: Playoff 13-16
LOCATION: Eppelheim 1
DTSTART;TZID=Europe/Berlin:20230226T100000
DURATION: P50M
GEO:49.4006271362305;8.6299171447754
END:VEVENT

BEGIN:VEVENT
SUMMARY:Frühsport 0,2-Ultimate am See
DESCRIPTION:Open 1. Liga: Playoff 13-16 Finals
LOCATION: Eppelheim 1
DTSTART;TZID=Europe/Berlin:20230226T132000
DURATION: P50M
GEO:49.4006271362305;8.6299171447754
END:VEVENT

END:VCALENDAR
