BEGIN:VCALENDAR
VERSION:2.0
PRODID: Ultiorganizer


BEGIN:VEVENT
SUMMARY:Bad Raps-Eintracht Frankfut
DESCRIPTION:U17 Quali SW: U17
LOCATION: Bad Rappenau 1
DTSTART;TZID=Europe/Berlin:20221218T123000
DURATION: P45M
GEO:49.2401695251465;9.1020154953003
END:VEVENT

BEGIN:VEVENT
SUMMARY:The Kids-Eintracht Frankfut
DESCRIPTION:U17 Quali SW: U17
LOCATION: Bad Rappenau 1
DTSTART;TZID=Europe/Berlin:20221218T140000
DURATION: P45M
GEO:49.2401695251465;9.1020154953003
END:VEVENT

BEGIN:VEVENT
SUMMARY:Eintracht Frankfut-Piratos
DESCRIPTION:U17 Quali SW: U17
LOCATION: Bad Rappenau 1
DTSTART;TZID=Europe/Berlin:20221218T161500
DURATION: P45M
GEO:49.2401695251465;9.1020154953003
END:VEVENT

END:VCALENDAR
