BEGIN:VCALENDAR
VERSION:2.0
PRODID: Ultiorganizer


BEGIN:VEVENT
SUMMARY:Juniorwolves-Pizza Volante
DESCRIPTION:U20: Pool A
LOCATION: Frankfurt am Main 1
DTSTART;TZID=Europe/Berlin:20230304T131000
DURATION: P40M
GEO:50.1109237670898;8.6821269989014
END:VEVENT

BEGIN:VEVENT
SUMMARY:Pizza Volante-Äitschbees
DESCRIPTION:U20: Pool A
LOCATION: Frankfurt am Main 1
DTSTART;TZID=Europe/Berlin:20230304T151000
DURATION: P40M
GEO:50.1109237670898;8.6821269989014
END:VEVENT

BEGIN:VEVENT
SUMMARY:Pizza Volante-TV Südkamen
DESCRIPTION:U20: Pool A
LOCATION: Frankfurt am Main 1
DTSTART;TZID=Europe/Berlin:20230304T171000
DURATION: P40M
GEO:50.1109237670898;8.6821269989014
END:VEVENT

BEGIN:VEVENT
SUMMARY:Sean's Sheep-Pizza Volante
DESCRIPTION:U20: Pool A
LOCATION: Frankfurt am Main 1
DTSTART;TZID=Europe/Berlin:20230304T183000
DURATION: P40M
GEO:50.1109237670898;8.6821269989014
END:VEVENT

BEGIN:VEVENT
SUMMARY:IsarRunners-Pizza Volante
DESCRIPTION:U20: Zwischenrunde
LOCATION: Frankfurt am Main 1
DTSTART;TZID=Europe/Berlin:20230305T102000
DURATION: P30M
GEO:50.1109237670898;8.6821269989014
END:VEVENT

BEGIN:VEVENT
SUMMARY:Sean's Sheep-Pizza Volante
DESCRIPTION:U20: Playoff 1-4
LOCATION: Frankfurt am Main 1
DTSTART;TZID=Europe/Berlin:20230305T115000
DURATION: P45M
GEO:50.1109237670898;8.6821269989014
END:VEVENT

BEGIN:VEVENT
SUMMARY:Pizza Volante-TV Südkamen
DESCRIPTION:U20: Playoff 1-4 Finals
LOCATION: Frankfurt am Main 1
DTSTART;TZID=Europe/Berlin:20230305T145000
DURATION: P45M
GEO:50.1109237670898;8.6821269989014
END:VEVENT

END:VCALENDAR
