BEGIN:VCALENDAR
VERSION:2.0
PRODID: Ultiorganizer


BEGIN:VEVENT
SUMMARY:Pizza Volante-Pizza Volante II
DESCRIPTION:U17 Quali NO: Gruppe A
LOCATION: Berlin 1
DTSTART;TZID=Europe/Berlin:20230604T115000
DURATION: P50M
GEO:52.5200080871582;13.4049539566040
END:VEVENT

BEGIN:VEVENT
SUMMARY:Goldfingers-Pizza Volante
DESCRIPTION:U17 Quali NO: Gruppe A
LOCATION: Berlin 1
DTSTART;TZID=Europe/Berlin:20230604T140000
DURATION: P50M
GEO:52.5200080871582;13.4049539566040
END:VEVENT

BEGIN:VEVENT
SUMMARY:Pizza Volante-Disckick
DESCRIPTION:U17 Quali NO: Gruppe A
LOCATION: Berlin 1
DTSTART;TZID=Europe/Berlin:20230604T161000
DURATION: P50M
GEO:52.5200080871582;13.4049539566040
END:VEVENT

END:VCALENDAR
