BEGIN:VCALENDAR
VERSION:2.0
PRODID: Ultiorganizer


BEGIN:VEVENT
SUMMARY:Disckick-Goldfingers
DESCRIPTION:U14 Quali NO: Pool A
LOCATION: Berlin 1
DTSTART;TZID=Europe/Berlin:20230702T103000
DURATION: P40M
GEO:52.5200080871582;13.4049539566040
END:VEVENT

BEGIN:VEVENT
SUMMARY:Pizza Volante 2-Goldfingers
DESCRIPTION:U14 Quali NO: Pool A
LOCATION: Berlin 1
DTSTART;TZID=Europe/Berlin:20230702T115000
DURATION: P40M
GEO:52.5200080871582;13.4049539566040
END:VEVENT

BEGIN:VEVENT
SUMMARY:Goldfingers-Disckick 2 (a. K.)
DESCRIPTION:U14 Quali NO: Pool A
LOCATION: Berlin 1
DTSTART;TZID=Europe/Berlin:20230702T135000
DURATION: P40M
GEO:52.5200080871582;13.4049539566040
END:VEVENT

BEGIN:VEVENT
SUMMARY:Pizza Volante-Goldfingers
DESCRIPTION:U14 Quali NO: Pool A
LOCATION: Berlin 1
DTSTART;TZID=Europe/Berlin:20230702T151000
DURATION: P40M
GEO:52.5200080871582;13.4049539566040
END:VEVENT

END:VCALENDAR
