BEGIN:VCALENDAR
VERSION:2.0
PRODID: Ultiorganizer


BEGIN:VEVENT
SUMMARY:Disckick-Pizza Volante
DESCRIPTION:U17: Finale 1-4
LOCATION:  
DTSTART;TZID=Europe/Berlin:
DURATION: P30M
GEO:;
END:VEVENT

BEGIN:VEVENT
SUMMARY:Moskitos-Pizza Volante
DESCRIPTION:U17: Pool B
LOCATION: Wilhelmshaven U17
DTSTART;TZID=Europe/Berlin:20240302T090000
DURATION: P30M
GEO:53.5284233093262;8.1588935852051
END:VEVENT

BEGIN:VEVENT
SUMMARY:Windhosen Wilhelmshaven-Pizza Volante
DESCRIPTION:U17: Pool B
LOCATION: Wilhelmshaven U17
DTSTART;TZID=Europe/Berlin:20240302T110000
DURATION: P30M
GEO:53.5284233093262;8.1588935852051
END:VEVENT

BEGIN:VEVENT
SUMMARY:Pizza Volante-Bad Raps
DESCRIPTION:U17: Pool B
LOCATION: Wilhelmshaven U17
DTSTART;TZID=Europe/Berlin:20240302T140000
DURATION: P30M
GEO:53.5284233093262;8.1588935852051
END:VEVENT

BEGIN:VEVENT
SUMMARY:Pizza Volante-Cologne Colibris
DESCRIPTION:U17: Pool B
LOCATION: Wilhelmshaven U17
DTSTART;TZID=Europe/Berlin:20240302T160000
DURATION: P30M
GEO:53.5284233093262;8.1588935852051
END:VEVENT

BEGIN:VEVENT
SUMMARY:Pizza Volante-Juniorwolves
DESCRIPTION:U17: Pre-Semi 1
LOCATION: Wilhelmshaven U17
DTSTART;TZID=Europe/Berlin:20240302T183000
DURATION: P30M
GEO:53.5284233093262;8.1588935852051
END:VEVENT

BEGIN:VEVENT
SUMMARY:Pizza Volante-Cologne Colibris
DESCRIPTION:U17: Finale 1-4 Finals
LOCATION: Wilhelmshaven U17
DTSTART;TZID=Europe/Berlin:20240303T093000
DURATION: P30M
GEO:53.5284233093262;8.1588935852051
END:VEVENT

END:VCALENDAR
