BEGIN:VCALENDAR
VERSION:2.0
PRODID: Ultiorganizer


BEGIN:VEVENT
SUMMARY:Mainzelrenner-BRLO Ultmte
DESCRIPTION:Beach 1. Liga Mixed: Pool B
LOCATION: Warnemünde 1
DTSTART;TZID=Europe/Berlin:20240504T100000
DURATION: P60M
GEO:54.1703414916992;12.0784435272217
END:VEVENT

BEGIN:VEVENT
SUMMARY:Mainzelrenner-Holy Grab
DESCRIPTION:Beach 1. Liga Mixed: Pool B
LOCATION: Warnemünde 2
DTSTART;TZID=Europe/Berlin:20240504T130000
DURATION: P60M
GEO:54.1703414916992;12.0784435272217
END:VEVENT

BEGIN:VEVENT
SUMMARY:Frau Rauscher & The Bembelboys Beach-Mainzelrenner
DESCRIPTION:Beach 1. Liga Mixed: Pool B
LOCATION: Warnemünde 1
DTSTART;TZID=Europe/Berlin:20240504T160000
DURATION: P60M
GEO:54.1703414916992;12.0784435272217
END:VEVENT

BEGIN:VEVENT
SUMMARY:Göttinger 7-Mainzelrenner
DESCRIPTION:Beach 1. Liga Mixed: RR 5-8
LOCATION: Warnemünde 3
DTSTART;TZID=Europe/Berlin:20240505T100000
DURATION: P60M
GEO:54.1703414916992;12.0784435272217
END:VEVENT

BEGIN:VEVENT
SUMMARY:Endzonis Luv-Mainzelrenner
DESCRIPTION:Beach 1. Liga Mixed: RR 5-8
LOCATION: Warnemünde 4
DTSTART;TZID=Europe/Berlin:20240505T130000
DURATION: P60M
GEO:54.1703414916992;12.0784435272217
END:VEVENT

END:VCALENDAR
