BEGIN:VCALENDAR
VERSION:2.0
PRODID: Ultiorganizer


BEGIN:VEVENT
SUMMARY:Disconnection-SugarMix
DESCRIPTION:DFV-Pokal Mixed: Vorrunde 1
LOCATION: München 3
DTSTART;TZID=Europe/Berlin:20240525T090000
DURATION: P100M
GEO:48.1351242065430;11.5819807052612
END:VEVENT

BEGIN:VEVENT
SUMMARY:Disconnection-Colorado
DESCRIPTION:DFV-Pokal Mixed: Vorrunde 2
LOCATION: München 1
DTSTART;TZID=Europe/Berlin:20240525T122000
DURATION: P100M
GEO:48.1351242065430;11.5819807052612
END:VEVENT

BEGIN:VEVENT
SUMMARY:Disconnection-FT Würzburg Ultimate
DESCRIPTION:DFV-Pokal Mixed: Endrunde 1-8
LOCATION: München 3
DTSTART;TZID=Europe/Berlin:20240525T175000
DURATION: P100M
GEO:48.1351242065430;11.5819807052612
END:VEVENT

BEGIN:VEVENT
SUMMARY:Disconnection-FdF Geretsried
DESCRIPTION:DFV-Pokal Mixed: Endrunde 1-8 Semifinals
LOCATION: München 3
DTSTART;TZID=Europe/Berlin:20240526T104000
DURATION: P100M
GEO:48.1351242065430;11.5819807052612
END:VEVENT

BEGIN:VEVENT
SUMMARY:Colorado-Disconnection
DESCRIPTION:DFV-Pokal Mixed: Endrunde 1-8 Finals
LOCATION: München 3
DTSTART;TZID=Europe/Berlin:20240526T140000
DURATION: P100M
GEO:48.1351242065430;11.5819807052612
END:VEVENT

END:VCALENDAR
