BEGIN:VCALENDAR
VERSION:2.0
PRODID: Ultiorganizer


BEGIN:VEVENT
SUMMARY:Colorado-Maultaschen
DESCRIPTION:DFV-Pokal Mixed: Vorrunde 1
LOCATION: München 1
DTSTART;TZID=Europe/Berlin:20240525T090000
DURATION: P100M
GEO:48.1351242065430;11.5819807052612
END:VEVENT

BEGIN:VEVENT
SUMMARY:Maultaschen-FdF Geretsried
DESCRIPTION:DFV-Pokal Mixed: Vorrunde 2
LOCATION: München 2
DTSTART;TZID=Europe/Berlin:20240525T122000
DURATION: P100M
GEO:48.1351242065430;11.5819807052612
END:VEVENT

BEGIN:VEVENT
SUMMARY:Maultaschen-NextGen Nürnberg
DESCRIPTION:DFV-Pokal Mixed: Q9-14
LOCATION: München 2
DTSTART;TZID=Europe/Berlin:20240525T175000
DURATION: P100M
GEO:48.1351242065430;11.5819807052612
END:VEVENT

BEGIN:VEVENT
SUMMARY:Funatics-Maultaschen
DESCRIPTION:DFV-Pokal Mixed: RR9-11
LOCATION: München 2
DTSTART;TZID=Europe/Berlin:20240526T090000
DURATION: P100M
GEO:48.1351242065430;11.5819807052612
END:VEVENT

BEGIN:VEVENT
SUMMARY:Maultaschen-Zamperl
DESCRIPTION:DFV-Pokal Mixed: RR9-11
LOCATION: München 2
DTSTART;TZID=Europe/Berlin:20240526T142000
DURATION: P100M
GEO:48.1351242065430;11.5819807052612
END:VEVENT

END:VCALENDAR
