BEGIN:VCALENDAR
VERSION:2.0
PRODID: Ultiorganizer


BEGIN:VEVENT
SUMMARY:Bad Skid-BORA
DESCRIPTION:DFV-Pokal Open: Vorrunde 1
LOCATION: Gemmrigheim 1
DTSTART;TZID=Europe/Berlin:20240608T104000
DURATION: P100M
GEO:0.0000000000000;0.0000000000000
END:VEVENT

BEGIN:VEVENT
SUMMARY:Bad Skid-M.U.C.
DESCRIPTION:DFV-Pokal Open: Vorrunde 2
LOCATION: Gemmrigheim 1
DTSTART;TZID=Europe/Berlin:20240608T140000
DURATION: P100M
GEO:0.0000000000000;0.0000000000000
END:VEVENT

BEGIN:VEVENT
SUMMARY:Frizzly Bears-Bad Skid
DESCRIPTION:DFV-Pokal Open: Finale 1-8
LOCATION: Lauffen am Neckar 4
DTSTART;TZID=Europe/Berlin:20240608T161000
DURATION: P100M
GEO:0.0000000000000;0.0000000000000
END:VEVENT

BEGIN:VEVENT
SUMMARY:Wall City-Bad Skid
DESCRIPTION:DFV-Pokal Open: Finale 1-8 Semifinals
LOCATION: Gemmrigheim 1
DTSTART;TZID=Europe/Berlin:20240609T104000
DURATION: P100M
GEO:0.0000000000000;0.0000000000000
END:VEVENT

BEGIN:VEVENT
SUMMARY:Bad Skid-7Schwaben
DESCRIPTION:DFV-Pokal Open: Finale 1-8 Finals
LOCATION: Gemmrigheim 1
DTSTART;TZID=Europe/Berlin:20240609T143000
DURATION: P100M
GEO:0.0000000000000;0.0000000000000
END:VEVENT

END:VCALENDAR
