BEGIN:VCALENDAR
VERSION:2.0
PRODID: Ultiorganizer


BEGIN:VEVENT
SUMMARY:Ars Ludendi-Holsteiner Cox
DESCRIPTION:DFV-Pokal Open: Finale 9-16
LOCATION: Gemmrigheim 1
DTSTART;TZID=Europe/Berlin:20240608T175000
DURATION: P100M
GEO:0.0000000000000;0.0000000000000
END:VEVENT

BEGIN:VEVENT
SUMMARY:7Schwaben-Holsteiner Cox
DESCRIPTION:DFV-Pokal Open: Vorrunde 1
LOCATION: Lauffen am Neckar 3
DTSTART;TZID=Europe/Berlin:20240608T090000
DURATION: P100M
GEO:0.0000000000000;0.0000000000000
END:VEVENT

BEGIN:VEVENT
SUMMARY:Holsteiner Cox-Funatics
DESCRIPTION:DFV-Pokal Open: Vorrunde 2
LOCATION: Lauffen am Neckar 4
DTSTART;TZID=Europe/Berlin:20240608T122000
DURATION: P100M
GEO:0.0000000000000;0.0000000000000
END:VEVENT

BEGIN:VEVENT
SUMMARY:Holsteiner Cox-Hucks Ultimate Club Berlin
DESCRIPTION:DFV-Pokal Open: Finale 9-16 Semifinals
LOCATION: Lauffen am Neckar 3
DTSTART;TZID=Europe/Berlin:20240609T090000
DURATION: P100M
GEO:0.0000000000000;0.0000000000000
END:VEVENT

BEGIN:VEVENT
SUMMARY:Holsteiner Cox-Munich Open Masters
DESCRIPTION:DFV-Pokal Open: Finale 9-16 Finals
LOCATION: Lauffen am Neckar 4
DTSTART;TZID=Europe/Berlin:20240609T122000
DURATION: P100M
GEO:0.0000000000000;0.0000000000000
END:VEVENT

END:VCALENDAR
