BEGIN:VCALENDAR
VERSION:2.0
PRODID: Ultiorganizer


BEGIN:VEVENT
SUMMARY:Pizza Volante II-Pizza Volante
DESCRIPTION:U17 Quali NO: U17
LOCATION: Leipzig 3
DTSTART;TZID=Europe/Berlin:20240615T100000
DURATION: P60M
GEO:51.3396949768066;12.3730745315552
END:VEVENT

BEGIN:VEVENT
SUMMARY:Goldfingers-Pizza Volante II
DESCRIPTION:U17 Quali NO: U17
LOCATION: Leipzig 3
DTSTART;TZID=Europe/Berlin:20240615T110000
DURATION: P60M
GEO:51.3396949768066;12.3730745315552
END:VEVENT

BEGIN:VEVENT
SUMMARY:Pizza Volante II-Disckick
DESCRIPTION:U17 Quali NO: U17
LOCATION: Leipzig 3
DTSTART;TZID=Europe/Berlin:20240615T130000
DURATION: P60M
GEO:51.3396949768066;12.3730745315552
END:VEVENT

BEGIN:VEVENT
SUMMARY:Pebbleheads-Pizza Volante II
DESCRIPTION:U17 Quali NO: U17
LOCATION: Leipzig 4
DTSTART;TZID=Europe/Berlin:20240615T145000
DURATION: P60M
GEO:51.3396949768066;12.3730745315552
END:VEVENT

END:VCALENDAR
