BEGIN:VCALENDAR
VERSION:2.0
PRODID: Ultiorganizer


BEGIN:VEVENT
SUMMARY:Mainzelrenner-Air Support
DESCRIPTION:Mixed 2. Liga Süd: Pool A
LOCATION: Massenbach 2
DTSTART;TZID=Europe/Berlin:20240629T090000
DURATION: P100M
GEO:0.0000000000000;0.0000000000000
END:VEVENT

BEGIN:VEVENT
SUMMARY:Air Support-Ars Ludendi
DESCRIPTION:Mixed 2. Liga Süd: Pool A
LOCATION: Massenbach 1
DTSTART;TZID=Europe/Berlin:20240629T122000
DURATION: P100M
GEO:0.0000000000000;0.0000000000000
END:VEVENT

BEGIN:VEVENT
SUMMARY:ULMtimates-Air Support
DESCRIPTION:Mixed 2. Liga Süd: Pool A
LOCATION: Massenbach 1
DTSTART;TZID=Europe/Berlin:20240629T154000
DURATION: P100M
GEO:0.0000000000000;0.0000000000000
END:VEVENT

BEGIN:VEVENT
SUMMARY:SugarMix-Air Support
DESCRIPTION:Mixed 2. Liga Süd: Pool A
LOCATION: Massenbach 2
DTSTART;TZID=Europe/Berlin:20240630T090000
DURATION: P100M
GEO:0.0000000000000;0.0000000000000
END:VEVENT

BEGIN:VEVENT
SUMMARY:Air Support-Monaco
DESCRIPTION:Mixed 2. Liga Süd: Pool A
LOCATION: Massenbach 2
DTSTART;TZID=Europe/Berlin:20240630T122000
DURATION: P100M
GEO:0.0000000000000;0.0000000000000
END:VEVENT

BEGIN:VEVENT
SUMMARY:Air Support-Mixed TV Bad Rappenau
DESCRIPTION:Mixed 2. Liga Süd: Pool A
LOCATION: Ulm 1
DTSTART;TZID=Europe/Berlin:20240713T090000
DURATION: P100M
GEO:48.3984642028809;9.9917602539062
END:VEVENT

BEGIN:VEVENT
SUMMARY:FdF Geretsried-Air Support
DESCRIPTION:Mixed 2. Liga Süd: Pool A
LOCATION: Ulm 1
DTSTART;TZID=Europe/Berlin:20240713T122000
DURATION: P100M
GEO:48.3984642028809;9.9917602539062
END:VEVENT

BEGIN:VEVENT
SUMMARY:FdF Geretsried-Air Support
DESCRIPTION:Mixed 2. Liga Süd: Finale 1-4
LOCATION: Ulm 1
DTSTART;TZID=Europe/Berlin:20240714T104000
DURATION: P100M
GEO:48.3984642028809;9.9917602539062
END:VEVENT

BEGIN:VEVENT
SUMMARY:Air Support-Ars Ludendi
DESCRIPTION:Mixed 2. Liga Süd: Finale 1-4 Finals
LOCATION: Ulm 2
DTSTART;TZID=Europe/Berlin:20240714T140000
DURATION: P100M
GEO:48.3984642028809;9.9917602539062
END:VEVENT

END:VCALENDAR
