BEGIN:VCALENDAR
VERSION:2.0
PRODID: Ultiorganizer


BEGIN:VEVENT
SUMMARY:Göttinger 7-Saxy Divers
DESCRIPTION:Mixed 2. Liga Nord: Pool A
LOCATION: Salzwedel 2
DTSTART;TZID=Europe/Berlin:20240629T104000
DURATION: P100M
GEO:52.8503379821777;11.1646680831909
END:VEVENT

BEGIN:VEVENT
SUMMARY:Hund Flach Werfen-Göttinger 7
DESCRIPTION:Mixed 2. Liga Nord: Pool A
LOCATION: Salzwedel 2
DTSTART;TZID=Europe/Berlin:20240629T140000
DURATION: P100M
GEO:52.8503379821777;11.1646680831909
END:VEVENT

BEGIN:VEVENT
SUMMARY:Bonobos-Göttinger 7
DESCRIPTION:Mixed 2. Liga Nord: Pool A
LOCATION: Salzwedel 2
DTSTART;TZID=Europe/Berlin:20240629T172000
DURATION: P100M
GEO:52.8503379821777;11.1646680831909
END:VEVENT

BEGIN:VEVENT
SUMMARY:Göttinger 7-Pizza Volante Mixed
DESCRIPTION:Mixed 2. Liga Nord: Pool A
LOCATION: Salzwedel 1
DTSTART;TZID=Europe/Berlin:20240630T104000
DURATION: P100M
GEO:52.8503379821777;11.1646680831909
END:VEVENT

BEGIN:VEVENT
SUMMARY:Göttinger 7-Bonnsai
DESCRIPTION:Mixed 2. Liga Nord: Pool A
LOCATION: Salzwedel 1
DTSTART;TZID=Europe/Berlin:20240630T140000
DURATION: P100M
GEO:52.8503379821777;11.1646680831909
END:VEVENT

BEGIN:VEVENT
SUMMARY:Funatics-Göttinger 7
DESCRIPTION:Mixed 2. Liga Nord: Pool A
LOCATION: Bochum 2
DTSTART;TZID=Europe/Berlin:20240713T090000
DURATION: P100M
GEO:51.4818458557129;7.2162361145020
END:VEVENT

BEGIN:VEVENT
SUMMARY:Göttinger 7-Sturmflut
DESCRIPTION:Mixed 2. Liga Nord: Pool A
LOCATION: Bochum 2
DTSTART;TZID=Europe/Berlin:20240713T122000
DURATION: P100M
GEO:51.4818458557129;7.2162361145020
END:VEVENT

BEGIN:VEVENT
SUMMARY:Göttinger 7-Bonobos
DESCRIPTION:Mixed 2. Liga Nord: RR 5-8
LOCATION: Bochum 1
DTSTART;TZID=Europe/Berlin:20240713T163000
DURATION: P100M
GEO:51.4818458557129;7.2162361145020
END:VEVENT

BEGIN:VEVENT
SUMMARY:Hund Flach Werfen-Göttinger 7
DESCRIPTION:Mixed 2. Liga Nord: RR 5-8
LOCATION: Bochum 1
DTSTART;TZID=Europe/Berlin:20240714T090000
DURATION: P100M
GEO:51.4818458557129;7.2162361145020
END:VEVENT

BEGIN:VEVENT
SUMMARY:Göttinger 7-Saxy Divers
DESCRIPTION:Mixed 2. Liga Nord: RR 5-8
LOCATION: Bochum 2
DTSTART;TZID=Europe/Berlin:20240714T122000
DURATION: P100M
GEO:51.4818458557129;7.2162361145020
END:VEVENT

END:VCALENDAR
