BEGIN:VCALENDAR
VERSION:2.0
PRODID: Ultiorganizer


BEGIN:VEVENT
SUMMARY:Munich Mules-Werfwölfe
DESCRIPTION:Mixed 3. Liga SO: Pool A
LOCATION: ESV München 2
DTSTART;TZID=Europe/Berlin:20240629T090000
DURATION: P100M
GEO:48.1467399597168;11.5003280639648
END:VEVENT

BEGIN:VEVENT
SUMMARY:MINT-Munich Mules
DESCRIPTION:Mixed 3. Liga SO: Pool A
LOCATION: ESV München 1
DTSTART;TZID=Europe/Berlin:20240629T122000
DURATION: P100M
GEO:48.1467399597168;11.5003280639648
END:VEVENT

BEGIN:VEVENT
SUMMARY:Munich Mules-Paradisco
DESCRIPTION:Mixed 3. Liga SO: Pool A
LOCATION: ESV München 2
DTSTART;TZID=Europe/Berlin:20240630T104000
DURATION: P100M
GEO:48.1467399597168;11.5003280639648
END:VEVENT

BEGIN:VEVENT
SUMMARY:Wurfkultur-Munich Mules
DESCRIPTION:Mixed 3. Liga SO: Pool A
LOCATION: ESV München 2
DTSTART;TZID=Europe/Berlin:20240630T140000
DURATION: P100M
GEO:48.1467399597168;11.5003280639648
END:VEVENT

BEGIN:VEVENT
SUMMARY:Ratisbona Eagles-Munich Mules
DESCRIPTION:Mixed 3. Liga SO: Pool A
LOCATION: Bamberg 1
DTSTART;TZID=Europe/Berlin:20240713T090000
DURATION: P100M
GEO:49.8907356262207;10.8824329376221
END:VEVENT

BEGIN:VEVENT
SUMMARY:Munich Mules-Unwucht Erlangen
DESCRIPTION:Mixed 3. Liga SO: Pool A
LOCATION: Bamberg 2
DTSTART;TZID=Europe/Berlin:20240713T140000
DURATION: P100M
GEO:49.8907356262207;10.8824329376221
END:VEVENT

BEGIN:VEVENT
SUMMARY:Wurfkultur-Munich Mules
DESCRIPTION:Mixed 3. Liga SO: Pool Finale 1-4
LOCATION: Bamberg 1
DTSTART;TZID=Europe/Berlin:20240714T104000
DURATION: P100M
GEO:49.8907356262207;10.8824329376221
END:VEVENT

BEGIN:VEVENT
SUMMARY:Munich Mules-Unwucht Erlangen
DESCRIPTION:Mixed 3. Liga SO: Pool Finale 1-4 Finals
LOCATION: Bamberg 2
DTSTART;TZID=Europe/Berlin:20240714T140000
DURATION: P100M
GEO:49.8907356262207;10.8824329376221
END:VEVENT

END:VCALENDAR
