BEGIN:VCALENDAR
VERSION:2.0
PRODID: Ultiorganizer


BEGIN:VEVENT
SUMMARY:Saxy Berries-Zamperl
DESCRIPTION:Frauen 1. Liga: Vorrunde A
LOCATION: Aachen 1
DTSTART;TZID=Europe/Berlin:20240810T090000
DURATION: P100M
GEO:50.7753448486328;6.0838866233826
END:VEVENT

BEGIN:VEVENT
SUMMARY:Zamperl-Black Foxx
DESCRIPTION:Frauen 1. Liga: Vorrunde A
LOCATION: Aachen 1
DTSTART;TZID=Europe/Berlin:20240810T122000
DURATION: P100M
GEO:50.7753448486328;6.0838866233826
END:VEVENT

BEGIN:VEVENT
SUMMARY:Zamperl-Candy
DESCRIPTION:Frauen 1. Liga: Vorrunde A
LOCATION: Aachen 1
DTSTART;TZID=Europe/Berlin:20240810T154000
DURATION: P100M
GEO:50.7753448486328;6.0838866233826
END:VEVENT

BEGIN:VEVENT
SUMMARY:Zamperl-U de Cologne
DESCRIPTION:Frauen 1. Liga: Vorrunde A
LOCATION: Aachen 1
DTSTART;TZID=Europe/Berlin:20240811T090000
DURATION: P100M
GEO:50.7753448486328;6.0838866233826
END:VEVENT

BEGIN:VEVENT
SUMMARY:Frizzly Bears-Zamperl
DESCRIPTION:Frauen 1. Liga: Vorrunde A
LOCATION: Aachen 1
DTSTART;TZID=Europe/Berlin:20240811T122000
DURATION: P100M
GEO:50.7753448486328;6.0838866233826
END:VEVENT

BEGIN:VEVENT
SUMMARY:Bonobos Bonobabes-Zamperl
DESCRIPTION:Frauen 1. Liga: Vorrunde A
LOCATION: München 2
DTSTART;TZID=Europe/Berlin:20240921T104000
DURATION: P100M
GEO:48.1351242065430;11.5819807052612
END:VEVENT

BEGIN:VEVENT
SUMMARY:MUC-Zamperl
DESCRIPTION:Frauen 1. Liga: Vorrunde A
LOCATION: München 1
DTSTART;TZID=Europe/Berlin:20240921T140000
DURATION: P100M
GEO:48.1351242065430;11.5819807052612
END:VEVENT

BEGIN:VEVENT
SUMMARY:Zamperl-Jinx (blau)
DESCRIPTION:Frauen 1. Liga: Top 8
LOCATION: München 1
DTSTART;TZID=Europe/Berlin:20240921T175000
DURATION: P100M
GEO:48.1351242065430;11.5819807052612
END:VEVENT

BEGIN:VEVENT
SUMMARY:Black Foxx-Zamperl
DESCRIPTION:Frauen 1. Liga: Top 8 Semifinals
LOCATION: München 3
DTSTART;TZID=Europe/Berlin:20240922T104000
DURATION: P100M
GEO:48.1351242065430;11.5819807052612
END:VEVENT

BEGIN:VEVENT
SUMMARY:Seagulls-Zamperl
DESCRIPTION:Frauen 1. Liga: Top 8 Finals
LOCATION: München 3
DTSTART;TZID=Europe/Berlin:20240922T140000
DURATION: P100M
GEO:48.1351242065430;11.5819807052612
END:VEVENT

END:VCALENDAR
