BEGIN:VCALENDAR
VERSION:2.0
PRODID: Ultiorganizer


BEGIN:VEVENT
SUMMARY:Family Ultimate-Frühsport 02
DESCRIPTION:Open 2. Liga Nord: Pool A
LOCATION: Leipzig 1
DTSTART;TZID=Europe/Berlin:20240824T090000
DURATION: P100M
GEO:51.3396949768066;12.3730745315552
END:VEVENT

BEGIN:VEVENT
SUMMARY:Leipzig Open-Family Ultimate
DESCRIPTION:Open 2. Liga Nord: Pool A
LOCATION: Leipzig 1
DTSTART;TZID=Europe/Berlin:20240824T122000
DURATION: P100M
GEO:51.3396949768066;12.3730745315552
END:VEVENT

BEGIN:VEVENT
SUMMARY:Family Ultimate-Disckick
DESCRIPTION:Open 2. Liga Nord: Pool A
LOCATION: Leipzig 1
DTSTART;TZID=Europe/Berlin:20240824T154000
DURATION: P100M
GEO:51.3396949768066;12.3730745315552
END:VEVENT

BEGIN:VEVENT
SUMMARY:Family Ultimate-Holsteiner Cox
DESCRIPTION:Open 2. Liga Nord: Pool A
LOCATION: Leipzig 2
DTSTART;TZID=Europe/Berlin:20240825T104000
DURATION: P100M
GEO:51.3396949768066;12.3730745315552
END:VEVENT

BEGIN:VEVENT
SUMMARY:Goldfingers-Family Ultimate
DESCRIPTION:Open 2. Liga Nord: Pool A
LOCATION: Leipzig 1
DTSTART;TZID=Europe/Berlin:20240825T140000
DURATION: P100M
GEO:51.3396949768066;12.3730745315552
END:VEVENT

BEGIN:VEVENT
SUMMARY:Bremen Ultimate-Family Ultimate
DESCRIPTION:Open 2. Liga Nord: Pool A
LOCATION: Kiel 2
DTSTART;TZID=Europe/Berlin:20240921T104000
DURATION: P100M
GEO:54.3232917785645;10.1227655410767
END:VEVENT

BEGIN:VEVENT
SUMMARY:Family Ultimate-Hard2fisch
DESCRIPTION:Open 2. Liga Nord: Pool A
LOCATION: Kiel 2
DTSTART;TZID=Europe/Berlin:20240921T140000
DURATION: P100M
GEO:54.3232917785645;10.1227655410767
END:VEVENT

BEGIN:VEVENT
SUMMARY:Family Ultimate-Frühsport 02
DESCRIPTION:Open 2. Liga Nord: RR 5-8
LOCATION: Kiel 1
DTSTART;TZID=Europe/Berlin:20240921T163000
DURATION: P100M
GEO:54.3232917785645;10.1227655410767
END:VEVENT

BEGIN:VEVENT
SUMMARY:Bremen Ultimate-Family Ultimate
DESCRIPTION:Open 2. Liga Nord: RR 5-8
LOCATION: Kiel 1
DTSTART;TZID=Europe/Berlin:20240922T090000
DURATION: P100M
GEO:54.3232917785645;10.1227655410767
END:VEVENT

BEGIN:VEVENT
SUMMARY:Family Ultimate-Holsteiner Cox
DESCRIPTION:Open 2. Liga Nord: RR 5-8
LOCATION: Kiel 2
DTSTART;TZID=Europe/Berlin:20240922T122000
DURATION: P100M
GEO:54.3232917785645;10.1227655410767
END:VEVENT

END:VCALENDAR
