BEGIN:VCALENDAR
VERSION:2.0
PRODID: Ultiorganizer


BEGIN:VEVENT
SUMMARY:Bonnsai-Frizzly Bears II
DESCRIPTION:Open 3. Liga NW: Pool A
LOCATION: Aachen 1
DTSTART;TZID=Europe/Berlin:20240824T090000
DURATION: P100M
GEO:50.7753448486328;6.0838866233826
END:VEVENT

BEGIN:VEVENT
SUMMARY:Frizzly Bears II-Cologne Colibris
DESCRIPTION:Open 3. Liga NW: Pool A
LOCATION: Aachen 2
DTSTART;TZID=Europe/Berlin:20240824T122000
DURATION: P100M
GEO:50.7753448486328;6.0838866233826
END:VEVENT

BEGIN:VEVENT
SUMMARY:Frizzly Bears II-Windhosen Wilhelmshaven
DESCRIPTION:Open 3. Liga NW: Pool A
LOCATION: Aachen 2
DTSTART;TZID=Europe/Berlin:20240824T154000
DURATION: P100M
GEO:50.7753448486328;6.0838866233826
END:VEVENT

BEGIN:VEVENT
SUMMARY:Caracals-Frizzly Bears II
DESCRIPTION:Open 3. Liga NW: Pool A
LOCATION: Aachen 1
DTSTART;TZID=Europe/Berlin:20240825T104000
DURATION: P100M
GEO:50.7753448486328;6.0838866233826
END:VEVENT

BEGIN:VEVENT
SUMMARY:Fischkutter-Frizzly Bears II
DESCRIPTION:Open 3. Liga NW: Pool A
LOCATION: Aachen 2
DTSTART;TZID=Europe/Berlin:20240825T140000
DURATION: P100M
GEO:50.7753448486328;6.0838866233826
END:VEVENT

BEGIN:VEVENT
SUMMARY:Frizzly Bears II-Bonobos Bonobros
DESCRIPTION:Open 3. Liga NW: Pool A
LOCATION: Wilhelmshaven 1
DTSTART;TZID=Europe/Berlin:20240921T104000
DURATION: P100M
GEO:53.5284233093262;8.1588935852051
END:VEVENT

BEGIN:VEVENT
SUMMARY:DU bist Frisbee-Frizzly Bears II
DESCRIPTION:Open 3. Liga NW: Pool A
LOCATION: Wilhelmshaven 1
DTSTART;TZID=Europe/Berlin:20240921T140000
DURATION: P100M
GEO:53.5284233093262;8.1588935852051
END:VEVENT

BEGIN:VEVENT
SUMMARY:Fischkutter-Frizzly Bears II
DESCRIPTION:Open 3. Liga NW: RR 5-8
LOCATION: Wilhelmshaven 2
DTSTART;TZID=Europe/Berlin:20240921T163000
DURATION: P100M
GEO:53.5284233093262;8.1588935852051
END:VEVENT

BEGIN:VEVENT
SUMMARY:Frizzly Bears II-DU bist Frisbee
DESCRIPTION:Open 3. Liga NW: RR 5-8
LOCATION: Wilhelmshaven 1
DTSTART;TZID=Europe/Berlin:20240922T090000
DURATION: P100M
GEO:53.5284233093262;8.1588935852051
END:VEVENT

BEGIN:VEVENT
SUMMARY:Frizzly Bears II-Cologne Colibris
DESCRIPTION:Open 3. Liga NW: RR 5-8
LOCATION: Wilhelmshaven 1
DTSTART;TZID=Europe/Berlin:20240922T122000
DURATION: P100M
GEO:53.5284233093262;8.1588935852051
END:VEVENT

END:VCALENDAR
