BEGIN:VCALENDAR
VERSION:2.0
PRODID: Ultiorganizer


BEGIN:VEVENT
SUMMARY:Sturm und Drang II-DAFKS FuldimaLes
DESCRIPTION:Open 3. Liga Süd: Pool A
LOCATION: Eppelheim 2
DTSTART;TZID=Europe/Berlin:20240824T104000
DURATION: P100M
GEO:49.4006271362305;8.6299171447754
END:VEVENT

BEGIN:VEVENT
SUMMARY:SquareForce Mannheim-Sturm und Drang II
DESCRIPTION:Open 3. Liga Süd: Pool A
LOCATION: Eppelheim 2
DTSTART;TZID=Europe/Berlin:20240824T140000
DURATION: P100M
GEO:49.4006271362305;8.6299171447754
END:VEVENT

BEGIN:VEVENT
SUMMARY:Wurstkultur-Sturm und Drang II
DESCRIPTION:Open 3. Liga Süd: Pool A
LOCATION: Eppelheim 2
DTSTART;TZID=Europe/Berlin:20240824T172000
DURATION: P100M
GEO:49.4006271362305;8.6299171447754
END:VEVENT

BEGIN:VEVENT
SUMMARY:Sturm und Drang II-GinPANsen
DESCRIPTION:Open 3. Liga Süd: Pool A
LOCATION: Eppelheim 1
DTSTART;TZID=Europe/Berlin:20240825T104000
DURATION: P100M
GEO:49.4006271362305;8.6299171447754
END:VEVENT

BEGIN:VEVENT
SUMMARY:Sturm und Drang II-Feldrenner
DESCRIPTION:Open 3. Liga Süd: Pool A
LOCATION: Eppelheim 1
DTSTART;TZID=Europe/Berlin:20240825T140000
DURATION: P100M
GEO:49.4006271362305;8.6299171447754
END:VEVENT

BEGIN:VEVENT
SUMMARY:Flying Igels-Sturm und Drang II
DESCRIPTION:Open 3. Liga Süd: Pool A
LOCATION: Bamberg 2
DTSTART;TZID=Europe/Berlin:20240921T090000
DURATION: P100M
GEO:49.8907356262207;10.8824329376221
END:VEVENT

BEGIN:VEVENT
SUMMARY:Sturm und Drang II-Heidees 2
DESCRIPTION:Open 3. Liga Süd: Pool A
LOCATION: Bamberg 2
DTSTART;TZID=Europe/Berlin:20240921T122000
DURATION: P100M
GEO:49.8907356262207;10.8824329376221
END:VEVENT

BEGIN:VEVENT
SUMMARY:Sturm und Drang II-SquareForce Mannheim
DESCRIPTION:Open 3. Liga Süd: RR 5-8
LOCATION: Bamberg 1
DTSTART;TZID=Europe/Berlin:20240921T163000
DURATION: P100M
GEO:49.8907356262207;10.8824329376221
END:VEVENT

BEGIN:VEVENT
SUMMARY:DAFKS FuldimaLes-Sturm und Drang II
DESCRIPTION:Open 3. Liga Süd: RR 5-8
LOCATION: Bamberg 1
DTSTART;TZID=Europe/Berlin:20240922T090000
DURATION: P100M
GEO:49.8907356262207;10.8824329376221
END:VEVENT

BEGIN:VEVENT
SUMMARY:Sturm und Drang II-GinPANsen
DESCRIPTION:Open 3. Liga Süd: RR 5-8
LOCATION: Bamberg 2
DTSTART;TZID=Europe/Berlin:20240922T122000
DURATION: P100M
GEO:49.8907356262207;10.8824329376221
END:VEVENT

END:VCALENDAR
