BEGIN:VCALENDAR
VERSION:2.0
PRODID: Ultiorganizer


BEGIN:VEVENT
SUMMARY:Schleudertrauma-Endamazonis
DESCRIPTION:Frauen 2. Liga Nord: Pool A
LOCATION: Potsdam 2
DTSTART;TZID=Europe/Berlin:20240824T100000
DURATION: P85M
GEO:52.3915710449219;13.0666170120239
END:VEVENT

BEGIN:VEVENT
SUMMARY:Windhosen Wilhelmshaven-Schleudertrauma
DESCRIPTION:Frauen 2. Liga Nord: Pool A
LOCATION: Potsdam 2
DTSTART;TZID=Europe/Berlin:20240824T125000
DURATION: P85M
GEO:52.3915710449219;13.0666170120239
END:VEVENT

BEGIN:VEVENT
SUMMARY:Bonnsai-Schleudertrauma
DESCRIPTION:Frauen 2. Liga Nord: Pool A
LOCATION: Potsdam 1
DTSTART;TZID=Europe/Berlin:20240824T154000
DURATION: P85M
GEO:52.3915710449219;13.0666170120239
END:VEVENT

BEGIN:VEVENT
SUMMARY:Schleudertrauma-Gulls2Sea
DESCRIPTION:Frauen 2. Liga Nord: Pool A
LOCATION: Potsdam 2
DTSTART;TZID=Europe/Berlin:20240825T100000
DURATION: P85M
GEO:52.3915710449219;13.0666170120239
END:VEVENT

BEGIN:VEVENT
SUMMARY:Schleudertrauma-Goldfingers PotsDamen
DESCRIPTION:Frauen 2. Liga Nord: Pool A
LOCATION: Potsdam 1
DTSTART;TZID=Europe/Berlin:20240825T125000
DURATION: P85M
GEO:52.3915710449219;13.0666170120239
END:VEVENT

BEGIN:VEVENT
SUMMARY:Family Ultimate-Schleudertrauma
DESCRIPTION:Frauen 2. Liga Nord: Pool A
LOCATION: Kiel 1
DTSTART;TZID=Europe/Berlin:20240921T100000
DURATION: P85M
GEO:54.3232917785645;10.1227655410767
END:VEVENT

BEGIN:VEVENT
SUMMARY:Ostsee Sirenen-Schleudertrauma
DESCRIPTION:Frauen 2. Liga Nord: Pool A
LOCATION: Kiel 2
DTSTART;TZID=Europe/Berlin:20240921T125000
DURATION: P85M
GEO:54.3232917785645;10.1227655410767
END:VEVENT

BEGIN:VEVENT
SUMMARY:Goldfingers PotsDamen-Schleudertrauma
DESCRIPTION:Frauen 2. Liga Nord: RR 5-8
LOCATION: Kiel 2
DTSTART;TZID=Europe/Berlin:20240921T164000
DURATION: P85M
GEO:54.3232917785645;10.1227655410767
END:VEVENT

BEGIN:VEVENT
SUMMARY:Schleudertrauma-Gulls2Sea
DESCRIPTION:Frauen 2. Liga Nord: RR 5-8
LOCATION: Kiel 1
DTSTART;TZID=Europe/Berlin:20240922T100000
DURATION: P85M
GEO:54.3232917785645;10.1227655410767
END:VEVENT

BEGIN:VEVENT
SUMMARY:Schleudertrauma-Windhosen Wilhelmshaven
DESCRIPTION:Frauen 2. Liga Nord: RR 5-8
LOCATION: Kiel 1
DTSTART;TZID=Europe/Berlin:20240922T125000
DURATION: P85M
GEO:54.3232917785645;10.1227655410767
END:VEVENT

END:VCALENDAR
