BEGIN:VCALENDAR
VERSION:2.0
PRODID: Ultiorganizer


BEGIN:VEVENT
SUMMARY:Pizza Volante II-Disckick
DESCRIPTION:DJUM U14: Gruppe C
LOCATION: Göttingen 2
DTSTART;TZID=Europe/Berlin:20240914T094000
DURATION: P40M
GEO:51.5412788391113;9.9158039093018
END:VEVENT

BEGIN:VEVENT
SUMMARY:Lufos-Pizza Volante II
DESCRIPTION:DJUM U14: Gruppe C
LOCATION: Göttingen 1
DTSTART;TZID=Europe/Berlin:20240914T110000
DURATION: P40M
GEO:51.5412788391113;9.9158039093018
END:VEVENT

BEGIN:VEVENT
SUMMARY:Ratisbona Eagles-Pizza Volante II
DESCRIPTION:DJUM U14: Gruppe C
LOCATION: Göttingen 1
DTSTART;TZID=Europe/Berlin:20240914T122000
DURATION: P40M
GEO:51.5412788391113;9.9158039093018
END:VEVENT

BEGIN:VEVENT
SUMMARY:Pizza Volante II-Sean's Sheep
DESCRIPTION:DJUM U14: Finale 1-8
LOCATION: Göttingen 3
DTSTART;TZID=Europe/Berlin:20240914T162000
DURATION: P40M
GEO:51.5412788391113;9.9158039093018
END:VEVENT

BEGIN:VEVENT
SUMMARY:TeKielas-Pizza Volante II
DESCRIPTION:DJUM U14: Finale 1-8 Semifinals
LOCATION: Göttingen 4
DTSTART;TZID=Europe/Berlin:20240915T094000
DURATION: P40M
GEO:51.5412788391113;9.9158039093018
END:VEVENT

BEGIN:VEVENT
SUMMARY:Frizzly Bears-Pizza Volante II
DESCRIPTION:DJUM U14: Finale 1-8 Finals
LOCATION: Göttingen 3
DTSTART;TZID=Europe/Berlin:20240915T112000
DURATION: P40M
GEO:51.5412788391113;9.9158039093018
END:VEVENT

END:VCALENDAR
