BEGIN:VCALENDAR
VERSION:2.0
PRODID: Ultiorganizer


BEGIN:VEVENT
SUMMARY:Pizza Volante-UFO
DESCRIPTION:DJUM U20: Gruppe B
LOCATION: Göttingen 5
DTSTART;TZID=Europe/Berlin:20240914T100500
DURATION: P50M
GEO:51.5412788391113;9.9158039093018
END:VEVENT

BEGIN:VEVENT
SUMMARY:Cologne Colibris-Pizza Volante
DESCRIPTION:DJUM U20: Gruppe B
LOCATION: Göttingen 5
DTSTART;TZID=Europe/Berlin:20240914T114500
DURATION: P50M
GEO:51.5412788391113;9.9158039093018
END:VEVENT

BEGIN:VEVENT
SUMMARY:Pizza Volante-Frizzly Bears
DESCRIPTION:DJUM U20: Gruppe B
LOCATION: Göttingen 5
DTSTART;TZID=Europe/Berlin:20240914T132500
DURATION: P50M
GEO:51.5412788391113;9.9158039093018
END:VEVENT

BEGIN:VEVENT
SUMMARY:Pizza Volante-TV Verl
DESCRIPTION:DJUM U20: Finale 1-8
LOCATION: Göttingen 6
DTSTART;TZID=Europe/Berlin:20240914T153000
DURATION: P50M
GEO:51.5412788391113;9.9158039093018
END:VEVENT

BEGIN:VEVENT
SUMMARY:Pizza Volante-Disckick
DESCRIPTION:DJUM U20: Finale 1-8 Semifinals
LOCATION: Göttingen 6
DTSTART;TZID=Europe/Berlin:20240915T100500
DURATION: P50M
GEO:51.5412788391113;9.9158039093018
END:VEVENT

BEGIN:VEVENT
SUMMARY:Juniorwolves-Pizza Volante
DESCRIPTION:DJUM U20: Finale 1-8 Finals
LOCATION: Göttingen 5
DTSTART;TZID=Europe/Berlin:20240915T130000
DURATION: P50M
GEO:51.5412788391113;9.9158039093018
END:VEVENT

END:VCALENDAR
