BEGIN:VCALENDAR
VERSION:2.0
PRODID: Ultiorganizer


BEGIN:VEVENT
SUMMARY:Pizza Volante-Goldfingers U17
DESCRIPTION:U17 Quali NO: Pool A
LOCATION: Leipzig 2
DTSTART;TZID=Europe/Berlin:20250111T114000
DURATION: P40M
GEO:51.3396949768066;12.3730745315552
END:VEVENT

BEGIN:VEVENT
SUMMARY:Goldfingers U17-Pebbleheads
DESCRIPTION:U17 Quali NO: Pool A
LOCATION: Leipzig 2
DTSTART;TZID=Europe/Berlin:20250111T130000
DURATION: P40M
GEO:51.3396949768066;12.3730745315552
END:VEVENT

BEGIN:VEVENT
SUMMARY:Disckick-Goldfingers U17
DESCRIPTION:U17 Quali NO: Pool A
LOCATION: Leipzig 2
DTSTART;TZID=Europe/Berlin:20250111T150000
DURATION: P40M
GEO:51.3396949768066;12.3730745315552
END:VEVENT

BEGIN:VEVENT
SUMMARY:Goldfingers U17-Pizza Volante II
DESCRIPTION:U17 Quali NO: Pool A
LOCATION: Leipzig 2
DTSTART;TZID=Europe/Berlin:20250111T162000
DURATION: P40M
GEO:51.3396949768066;12.3730745315552
END:VEVENT

END:VCALENDAR
