BEGIN:VCALENDAR
VERSION:2.0
PRODID: Ultiorganizer


BEGIN:VEVENT
SUMMARY:Heidees II-FdF Geretsried
DESCRIPTION:2. Liga Süd Frauen: Pool B
LOCATION: Eppelheim 1
DTSTART;TZID=Europe/Berlin:20250125T104000
DURATION: P50M
GEO:49.4006271362305;8.6299171447754
END:VEVENT

BEGIN:VEVENT
SUMMARY:MissTÜrious-Heidees II
DESCRIPTION:2. Liga Süd Frauen: Pool B
LOCATION: Eppelheim 1
DTSTART;TZID=Europe/Berlin:20250125T140000
DURATION: P50M
GEO:49.4006271362305;8.6299171447754
END:VEVENT

BEGIN:VEVENT
SUMMARY:Mainzelmädchen-Heidees II
DESCRIPTION:2. Liga Süd Frauen: Pool B
LOCATION: Eppelheim 1
DTSTART;TZID=Europe/Berlin:20250125T172000
DURATION: P50M
GEO:49.4006271362305;8.6299171447754
END:VEVENT

BEGIN:VEVENT
SUMMARY:Candy-Heidees II
DESCRIPTION:2. Liga Süd Frauen: RR 5-8
LOCATION: Eppelheim 1
DTSTART;TZID=Europe/Berlin:20250126T090000
DURATION: P50M
GEO:49.4006271362305;8.6299171447754
END:VEVENT

BEGIN:VEVENT
SUMMARY:Frau Rauscher-Heidees II
DESCRIPTION:2. Liga Süd Frauen: RR 5-8
LOCATION: Eppelheim 1
DTSTART;TZID=Europe/Berlin:20250126T131000
DURATION: P50M
GEO:49.4006271362305;8.6299171447754
END:VEVENT

END:VCALENDAR
